Workbook

Sheet Préstamos diarios
A1: nombre | B1: telefono | C1: email | D1: saldo | E1: estatus | F1: folio | G1: zona | H1: fecha_de_entrega | I1: monto_prestado | J1: pago_diario | K1: numero_de_pagos | L1: cobra_domingo | M1: total_a_pagar | N1: abonado | O1: dias_de_cobro_a_hoy | P1: debio_llevar | Q1: atraso | R1: pagos_atrasados | S1: ultimo_pago | T1: orden_en_ruta
A2: Teresa Paredes | B2: +52 55 0000 0081 | D2: =IF(F2="","",MAX(0,M2-N2)) | E2: activo | F2: D-101 | G2: Centro | H2: 46286 | I2: 2000 | J2: 100 | K2: 24 | L2: no | M2: =IF(F2="","",J2*K2) | N2: =IF(F2="","",SUMIF(Abonos!$B$2:$B$5000,F2,Abonos!$C$2:$C$5000)) | O2: =IF(F2="","",MIN(K2,IF(TODAY()<=H2,0,IF(L2="sí",TODAY()-H2,NETWORKDAYS.INTL(H2+1,TODAY(),11))))) | P2: =IF(F2="","",O2*J2) | Q2: =IF(F2="","",MAX(0,P2-N2)) | R2: =IF(F2="","",IF(N(J2)=0,0,ROUNDUP(Q2/J2,0))) | S2: =IF(F2="","",IFERROR(1/(1/_xlfn.MAXIFS(Abonos!$A$2:$A$5000,Abonos!$B$2:$B$5000,F2)),"")) | T2: =IF(F2="","",IF(AND(G2='Ruta de hoy'!$B$4,N(D2)>0),COUNTIFS($G$2:G2,'Ruta de hoy'!$B$4,$D$2:D2,">0"),""))
A3: Miguel Ángel Ruiz | B3: +52 55 0000 0082 | D3: =IF(F3="","",MAX(0,M3-N3)) | E3: vencido | F3: D-102 | G3: Centro | H3: 46293 | I3: 3000 | J3: 150 | K3: 24 | L3: no | M3: =IF(F3="","",J3*K3) | N3: =IF(F3="","",SUMIF(Abonos!$B$2:$B$5000,F3,Abonos!$C$2:$C$5000)) | O3: =IF(F3="","",MIN(K3,IF(TODAY()<=H3,0,IF(L3="sí",TODAY()-H3,NETWORKDAYS.INTL(H3+1,TODAY(),11))))) | P3: =IF(F3="","",O3*J3) | Q3: =IF(F3="","",MAX(0,P3-N3)) | R3: =IF(F3="","",IF(N(J3)=0,0,ROUNDUP(Q3/J3,0))) | S3: =IF(F3="","",IFERROR(1/(1/_xlfn.MAXIFS(Abonos!$A$2:$A$5000,Abonos!$B$2:$B$5000,F3)),"")) | T3: =IF(F3="","",IF(AND(G3='Ruta de hoy'!$B$4,N(D3)>0),COUNTIFS($G$2:G3,'Ruta de hoy'!$B$4,$D$2:D3,">0"),""))
A4: Fonda Doña Rosa | B4: +52 55 0000 0083 | D4: =IF(F4="","",MAX(0,M4-N4)) | E4: activo | F4: D-103 | G4: Mercado | H4: 46296 | I4: 5000 | J4: 250 | K4: 24 | L4: sí | M4: =IF(F4="","",J4*K4) | N4: =IF(F4="","",SUMIF(Abonos!$B$2:$B$5000,F4,Abonos!$C$2:$C$5000)) | O4: =IF(F4="","",MIN(K4,IF(TODAY()<=H4,0,IF(L4="sí",TODAY()-H4,NETWORKDAYS.INTL(H4+1,TODAY(),11))))) | P4: =IF(F4="","",O4*J4) | Q4: =IF(F4="","",MAX(0,P4-N4)) | R4: =IF(F4="","",IF(N(J4)=0,0,ROUNDUP(Q4/J4,0))) | S4: =IF(F4="","",IFERROR(1/(1/_xlfn.MAXIFS(Abonos!$A$2:$A$5000,Abonos!$B$2:$B$5000,F4)),"")) | T4: =IF(F4="","",IF(AND(G4='Ruta de hoy'!$B$4,N(D4)>0),COUNTIFS($G$2:G4,'Ruta de hoy'!$B$4,$D$2:D4,">0"),""))
A5: Jaime Ortiz | B5: +52 55 0000 0084 | D5: =IF(F5="","",MAX(0,M5-N5)) | E5: activo | F5: D-104 | G5: Mercado | H5: 46300 | I5: 1500 | J5: 75 | K5: 24 | L5: no | M5: =IF(F5="","",J5*K5) | N5: =IF(F5="","",SUMIF(Abonos!$B$2:$B$5000,F5,Abonos!$C$2:$C$5000)) | O5: =IF(F5="","",MIN(K5,IF(TODAY()<=H5,0,IF(L5="sí",TODAY()-H5,NETWORKDAYS.INTL(H5+1,TODAY(),11))))) | P5: =IF(F5="","",O5*J5) | Q5: =IF(F5="","",MAX(0,P5-N5)) | R5: =IF(F5="","",IF(N(J5)=0,0,ROUNDUP(Q5/J5,0))) | S5: =IF(F5="","",IFERROR(1/(1/_xlfn.MAXIFS(Abonos!$A$2:$A$5000,Abonos!$B$2:$B$5000,F5)),"")) | T5: =IF(F5="","",IF(AND(G5='Ruta de hoy'!$B$4,N(D5)>0),COUNTIFS($G$2:G5,'Ruta de hoy'!$B$4,$D$2:D5,">0"),""))
D6: =IF(F6="","",MAX(0,M6-N6)) | M6: =IF(F6="","",J6*K6) | N6: =IF(F6="","",SUMIF(Abonos!$B$2:$B$5000,F6,Abonos!$C$2:$C$5000)) | O6: =IF(F6="","",MIN(K6,IF(TODAY()<=H6,0,IF(L6="sí",TODAY()-H6,NETWORKDAYS.INTL(H6+1,TODAY(),11))))) | P6: =IF(F6="","",O6*J6) | Q6: =IF(F6="","",MAX(0,P6-N6)) | R6: =IF(F6="","",IF(N(J6)=0,0,ROUNDUP(Q6/J6,0))) | S6: =IF(F6="","",IFERROR(1/(1/_xlfn.MAXIFS(Abonos!$A$2:$A$5000,Abonos!$B$2:$B$5000,F6)),"")) | T6: =IF(F6="","",IF(AND(G6='Ruta de hoy'!$B$4,N(D6)>0),COUNTIFS($G$2:G6,'Ruta de hoy'!$B$4,$D$2:D6,">0"),""))
D7: =IF(F7="","",MAX(0,M7-N7)) | M7: =IF(F7="","",J7*K7) | N7: =IF(F7="","",SUMIF(Abonos!$B$2:$B$5000,F7,Abonos!$C$2:$C$5000)) | O7: =IF(F7="","",MIN(K7,IF(TODAY()<=H7,0,IF(L7="sí",TODAY()-H7,NETWORKDAYS.INTL(H7+1,TODAY(),11))))) | P7: =IF(F7="","",O7*J7) | Q7: =IF(F7="","",MAX(0,P7-N7)) | R7: =IF(F7="","",IF(N(J7)=0,0,ROUNDUP(Q7/J7,0))) | S7: =IF(F7="","",IFERROR(1/(1/_xlfn.MAXIFS(Abonos!$A$2:$A$5000,Abonos!$B$2:$B$5000,F7)),"")) | T7: =IF(F7="","",IF(AND(G7='Ruta de hoy'!$B$4,N(D7)>0),COUNTIFS($G$2:G7,'Ruta de hoy'!$B$4,$D$2:D7,">0"),""))
D8: =IF(F8="","",MAX(0,M8-N8)) | M8: =IF(F8="","",J8*K8) | N8: =IF(F8="","",SUMIF(Abonos!$B$2:$B$5000,F8,Abonos!$C$2:$C$5000)) | O8: =IF(F8="","",MIN(K8,IF(TODAY()<=H8,0,IF(L8="sí",TODAY()-H8,NETWORKDAYS.INTL(H8+1,TODAY(),11))))) | P8: =IF(F8="","",O8*J8) | Q8: =IF(F8="","",MAX(0,P8-N8)) | R8: =IF(F8="","",IF(N(J8)=0,0,ROUNDUP(Q8/J8,0))) | S8: =IF(F8="","",IFERROR(1/(1/_xlfn.MAXIFS(Abonos!$A$2:$A$5000,Abonos!$B$2:$B$5000,F8)),"")) | T8: =IF(F8="","",IF(AND(G8='Ruta de hoy'!$B$4,N(D8)>0),COUNTIFS($G$2:G8,'Ruta de hoy'!$B$4,$D$2:D8,">0"),""))
D9: =IF(F9="","",MAX(0,M9-N9)) | M9: =IF(F9="","",J9*K9) | N9: =IF(F9="","",SUMIF(Abonos!$B$2:$B$5000,F9,Abonos!$C$2:$C$5000)) | O9: =IF(F9="","",MIN(K9,IF(TODAY()<=H9,0,IF(L9="sí",TODAY()-H9,NETWORKDAYS.INTL(H9+1,TODAY(),11))))) | P9: =IF(F9="","",O9*J9) | Q9: =IF(F9="","",MAX(0,P9-N9)) | R9: =IF(F9="","",IF(N(J9)=0,0,ROUNDUP(Q9/J9,0))) | S9: =IF(F9="","",IFERROR(1/(1/_xlfn.MAXIFS(Abonos!$A$2:$A$5000,Abonos!$B$2:$B$5000,F9)),"")) | T9: =IF(F9="","",IF(AND(G9='Ruta de hoy'!$B$4,N(D9)>0),COUNTIFS($G$2:G9,'Ruta de hoy'!$B$4,$D$2:D9,">0"),""))
D10: =IF(F10="","",MAX(0,M10-N10)) | M10: =IF(F10="","",J10*K10) | N10: =IF(F10="","",SUMIF(Abonos!$B$2:$B$5000,F10,Abonos!$C$2:$C$5000)) | O10: =IF(F10="","",MIN(K10,IF(TODAY()<=H10,0,IF(L10="sí",TODAY()-H10,NETWORKDAYS.INTL(H10+1,TODAY(),11))))) | P10: =IF(F10="","",O10*J10) | Q10: =IF(F10="","",MAX(0,P10-N10)) | R10: =IF(F10="","",IF(N(J10)=0,0,ROUNDUP(Q10/J10,0))) | S10: =IF(F10="","",IFERROR(1/(1/_xlfn.MAXIFS(Abonos!$A$2:$A$5000,Abonos!$B$2:$B$5000,F10)),"")) | T10: =IF(F10="","",IF(AND(G10='Ruta de hoy'!$B$4,N(D10)>0),COUNTIFS($G$2:G10,'Ruta de hoy'!$B$4,$D$2:D10,">0"),""))
D11: =IF(F11="","",MAX(0,M11-N11)) | M11: =IF(F11="","",J11*K11) | N11: =IF(F11="","",SUMIF(Abonos!$B$2:$B$5000,F11,Abonos!$C$2:$C$5000)) | O11: =IF(F11="","",MIN(K11,IF(TODAY()<=H11,0,IF(L11="sí",TODAY()-H11,NETWORKDAYS.INTL(H11+1,TODAY(),11))))) | P11: =IF(F11="","",O11*J11) | Q11: =IF(F11="","",MAX(0,P11-N11)) | R11: =IF(F11="","",IF(N(J11)=0,0,ROUNDUP(Q11/J11,0))) | S11: =IF(F11="","",IFERROR(1/(1/_xlfn.MAXIFS(Abonos!$A$2:$A$5000,Abonos!$B$2:$B$5000,F11)),"")) | T11: =IF(F11="","",IF(AND(G11='Ruta de hoy'!$B$4,N(D11)>0),COUNTIFS($G$2:G11,'Ruta de hoy'!$B$4,$D$2:D11,">0"),""))
D12: =IF(F12="","",MAX(0,M12-N12)) | M12: =IF(F12="","",J12*K12) | N12: =IF(F12="","",SUMIF(Abonos!$B$2:$B$5000,F12,Abonos!$C$2:$C$5000)) | O12: =IF(F12="","",MIN(K12,IF(TODAY()<=H12,0,IF(L12="sí",TODAY()-H12,NETWORKDAYS.INTL(H12+1,TODAY(),11))))) | P12: =IF(F12="","",O12*J12) | Q12: =IF(F12="","",MAX(0,P12-N12)) | R12: =IF(F12="","",IF(N(J12)=0,0,ROUNDUP(Q12/J12,0))) | S12: =IF(F12="","",IFERROR(1/(1/_xlfn.MAXIFS(Abonos!$A$2:$A$5000,Abonos!$B$2:$B$5000,F12)),"")) | T12: =IF(F12="","",IF(AND(G12='Ruta de hoy'!$B$4,N(D12)>0),COUNTIFS($G$2:G12,'Ruta de hoy'!$B$4,$D$2:D12,">0"),""))
D13: =IF(F13="","",MAX(0,M13-N13)) | M13: =IF(F13="","",J13*K13) | N13: =IF(F13="","",SUMIF(Abonos!$B$2:$B$5000,F13,Abonos!$C$2:$C$5000)) | O13: =IF(F13="","",MIN(K13,IF(TODAY()<=H13,0,IF(L13="sí",TODAY()-H13,NETWORKDAYS.INTL(H13+1,TODAY(),11))))) | P13: =IF(F13="","",O13*J13) | Q13: =IF(F13="","",MAX(0,P13-N13)) | R13: =IF(F13="","",IF(N(J13)=0,0,ROUNDUP(Q13/J13,0))) | S13: =IF(F13="","",IFERROR(1/(1/_xlfn.MAXIFS(Abonos!$A$2:$A$5000,Abonos!$B$2:$B$5000,F13)),"")) | T13: =IF(F13="","",IF(AND(G13='Ruta de hoy'!$B$4,N(D13)>0),COUNTIFS($G$2:G13,'Ruta de hoy'!$B$4,$D$2:D13,">0"),""))
D14: =IF(F14="","",MAX(0,M14-N14)) | M14: =IF(F14="","",J14*K14) | N14: =IF(F14="","",SUMIF(Abonos!$B$2:$B$5000,F14,Abonos!$C$2:$C$5000)) | O14: =IF(F14="","",MIN(K14,IF(TODAY()<=H14,0,IF(L14="sí",TODAY()-H14,NETWORKDAYS.INTL(H14+1,TODAY(),11))))) | P14: =IF(F14="","",O14*J14) | Q14: =IF(F14="","",MAX(0,P14-N14)) | R14: =IF(F14="","",IF(N(J14)=0,0,ROUNDUP(Q14/J14,0))) | S14: =IF(F14="","",IFERROR(1/(1/_xlfn.MAXIFS(Abonos!$A$2:$A$5000,Abonos!$B$2:$B$5000,F14)),"")) | T14: =IF(F14="","",IF(AND(G14='Ruta de hoy'!$B$4,N(D14)>0),COUNTIFS($G$2:G14,'Ruta de hoy'!$B$4,$D$2:D14,">0"),""))
D15: =IF(F15="","",MAX(0,M15-N15)) | M15: =IF(F15="","",J15*K15) | N15: =IF(F15="","",SUMIF(Abonos!$B$2:$B$5000,F15,Abonos!$C$2:$C$5000)) | O15: =IF(F15="","",MIN(K15,IF(TODAY()<=H15,0,IF(L15="sí",TODAY()-H15,NETWORKDAYS.INTL(H15+1,TODAY(),11))))) | P15: =IF(F15="","",O15*J15) | Q15: =IF(F15="","",MAX(0,P15-N15)) | R15: =IF(F15="","",IF(N(J15)=0,0,ROUNDUP(Q15/J15,0))) | S15: =IF(F15="","",IFERROR(1/(1/_xlfn.MAXIFS(Abonos!$A$2:$A$5000,Abonos!$B$2:$B$5000,F15)),"")) | T15: =IF(F15="","",IF(AND(G15='Ruta de hoy'!$B$4,N(D15)>0),COUNTIFS($G$2:G15,'Ruta de hoy'!$B$4,$D$2:D15,">0"),""))
D16: =IF(F16="","",MAX(0,M16-N16)) | M16: =IF(F16="","",J16*K16) | N16: =IF(F16="","",SUMIF(Abonos!$B$2:$B$5000,F16,Abonos!$C$2:$C$5000)) | O16: =IF(F16="","",MIN(K16,IF(TODAY()<=H16,0,IF(L16="sí",TODAY()-H16,NETWORKDAYS.INTL(H16+1,TODAY(),11))))) | P16: =IF(F16="","",O16*J16) | Q16: =IF(F16="","",MAX(0,P16-N16)) | R16: =IF(F16="","",IF(N(J16)=0,0,ROUNDUP(Q16/J16,0))) | S16: =IF(F16="","",IFERROR(1/(1/_xlfn.MAXIFS(Abonos!$A$2:$A$5000,Abonos!$B$2:$B$5000,F16)),"")) | T16: =IF(F16="","",IF(AND(G16='Ruta de hoy'!$B$4,N(D16)>0),COUNTIFS($G$2:G16,'Ruta de hoy'!$B$4,$D$2:D16,">0"),""))
D17: =IF(F17="","",MAX(0,M17-N17)) | M17: =IF(F17="","",J17*K17) | N17: =IF(F17="","",SUMIF(Abonos!$B$2:$B$5000,F17,Abonos!$C$2:$C$5000)) | O17: =IF(F17="","",MIN(K17,IF(TODAY()<=H17,0,IF(L17="sí",TODAY()-H17,NETWORKDAYS.INTL(H17+1,TODAY(),11))))) | P17: =IF(F17="","",O17*J17) | Q17: =IF(F17="","",MAX(0,P17-N17)) | R17: =IF(F17="","",IF(N(J17)=0,0,ROUNDUP(Q17/J17,0))) | S17: =IF(F17="","",IFERROR(1/(1/_xlfn.MAXIFS(Abonos!$A$2:$A$5000,Abonos!$B$2:$B$5000,F17)),"")) | T17: =IF(F17="","",IF(AND(G17='Ruta de hoy'!$B$4,N(D17)>0),COUNTIFS($G$2:G17,'Ruta de hoy'!$B$4,$D$2:D17,">0"),""))
... D201: =IF(F201="","",MAX(0,M201-N201)) | M201: =IF(F201="","",J201*K201) | N201: =IF(F201="","",SUMIF(Abonos!$B$2:$B$5000,F201,Abonos!$C$2:$C$5000)) | O201: =IF(F201="","",MIN(K201,IF(TODAY()<=H201,0,IF(L201="sí",TODAY()-H201,NETWORKDAYS.INTL(H201+1,TODAY(),11))))) | P201: =IF(F201="","",O201*J201) | Q201: =IF(F201="","",MAX(0,P201-N201)) | R201: =IF(F201="","",IF(N(J201)=0,0,ROUNDUP(Q201/J201,0))) | S201: =IF(F201="","",IFERROR(1/(1/_xlfn.MAXIFS(Abonos!$A$2:$A$5000,Abonos!$B$2:$B$5000,F201)),"")) | T201: =IF(F201="","",IF(AND(G201='Ruta de hoy'!$B$4,N(D201)>0),COUNTIFS($G$2:G201,'Ruta de hoy'!$B$4,$D$2:D201,">0"),""))
A204: Totales | D204: =SUM(D2:D201) | I204: =SUM(I2:I201) | N204: =SUM(N2:N201) | Q204: =SUM(Q2:Q201)

Sheet Abonos
A1: fecha | B1: folio | C1: monto | D1: cobrador | E1: nota
A2: 46287 | B2: D-101 | C2: 100 | D2: Ramón
A3: 46288 | B3: D-101 | C3: 100 | D3: Ramón
A4: 46289 | B4: D-101 | C4: 100 | D4: Ramón
A5: 46290 | B5: D-101 | C5: 100 | D5: Ramón
A6: 46291 | B6: D-101 | C6: 100 | D6: Ramón
A7: 46293 | B7: D-101 | C7: 100 | D7: Ramón
A8: 46294 | B8: D-101 | C8: 100 | D8: Ramón
A9: 46296 | B9: D-101 | C9: 100 | D9: Ramón
A10: 46297 | B10: D-101 | C10: 100 | D10: Ramón
A11: 46298 | B11: D-101 | C11: 100 | D11: Ramón
A12: 46300 | B12: D-101 | C12: 100 | D12: Ramón
A13: 46301 | B13: D-101 | C13: 100 | D13: Ramón
... A18: 46295 | B18: D-102 | C18: 150 | D18: Ramón
A19: 46297 | B19: D-102 | C19: 300 | D19: Ramón | E19: dos días juntos
A20: 46297 | B20: D-103 | C20: 250 | D20: Lupita
A21: 46298 | B21: D-103 | C21: 250 | D21: Lupita
A22: 46299 | B22: D-103 | C22: 250 | D22: Lupita
A23: 46300 | B23: D-103 | C23: 250 | D23: Lupita
A24: 46301 | B24: D-103 | C24: 250 | D24: Lupita
A25: 46302 | B25: D-103 | C25: 250 | D25: Lupita
A26: 46303 | B26: D-103 | C26: 250 | D26: Lupita
A27: 46304 | B27: D-103 | C27: 250 | D27: Lupita
A28: 46305 | B28: D-103 | C28: 250 | D28: Lupita
A29: 46306 | B29: D-103 | C29: 250 | D29: Lupita
A30: 46307 | B30: D-103 | C30: 250 | D30: Lupita
A31: 46301 | B31: D-104 | C31: 75 | D31: Lupita
... A33: 46303 | B33: D-104 | C33: 75 | D33: Lupita

Sheet Ruta de hoy
A1: Ruta de cobro de hoy
A2: Escribe la zona en la celda gris. La lista sale de la pestaña Préstamos diarios.
A4: Zona | B4: Centro
A6: cliente | B6: folio | C6: pago_de_hoy | D6: atraso | E6: a_cobrar_hoy | F6: cobrado
A7: =IFERROR(INDEX('Préstamos diarios'!$A$1:$A$201,MATCH(1,'Préstamos diarios'!$T$2:$T$201,0)+1),"") | B7: =IFERROR(INDEX('Préstamos diarios'!$F$1:$F$201,MATCH(1,'Préstamos diarios'!$T$2:$T$201,0)+1),"") | C7: =IFERROR(INDEX('Préstamos diarios'!$J$1:$J$201,MATCH(1,'Préstamos diarios'!$T$2:$T$201,0)+1),"") | D7: =IFERROR(INDEX('Préstamos diarios'!$Q$1:$Q$201,MATCH(1,'Préstamos diarios'!$T$2:$T$201,0)+1),"") | E7: =IF(A7="","",C7+D7)
A8: =IFERROR(INDEX('Préstamos diarios'!$A$1:$A$201,MATCH(2,'Préstamos diarios'!$T$2:$T$201,0)+1),"") | B8: =IFERROR(INDEX('Préstamos diarios'!$F$1:$F$201,MATCH(2,'Préstamos diarios'!$T$2:$T$201,0)+1),"") | C8: =IFERROR(INDEX('Préstamos diarios'!$J$1:$J$201,MATCH(2,'Préstamos diarios'!$T$2:$T$201,0)+1),"") | D8: =IFERROR(INDEX('Préstamos diarios'!$Q$1:$Q$201,MATCH(2,'Préstamos diarios'!$T$2:$T$201,0)+1),"") | E8: =IF(A8="","",C8+D8)
A9: =IFERROR(INDEX('Préstamos diarios'!$A$1:$A$201,MATCH(3,'Préstamos diarios'!$T$2:$T$201,0)+1),"") | B9: =IFERROR(INDEX('Préstamos diarios'!$F$1:$F$201,MATCH(3,'Préstamos diarios'!$T$2:$T$201,0)+1),"") | C9: =IFERROR(INDEX('Préstamos diarios'!$J$1:$J$201,MATCH(3,'Préstamos diarios'!$T$2:$T$201,0)+1),"") | D9: =IFERROR(INDEX('Préstamos diarios'!$Q$1:$Q$201,MATCH(3,'Préstamos diarios'!$T$2:$T$201,0)+1),"") | E9: =IF(A9="","",C9+D9)
A10: =IFERROR(INDEX('Préstamos diarios'!$A$1:$A$201,MATCH(4,'Préstamos diarios'!$T$2:$T$201,0)+1),"") | B10: =IFERROR(INDEX('Préstamos diarios'!$F$1:$F$201,MATCH(4,'Préstamos diarios'!$T$2:$T$201,0)+1),"") | C10: =IFERROR(INDEX('Préstamos diarios'!$J$1:$J$201,MATCH(4,'Préstamos diarios'!$T$2:$T$201,0)+1),"") | D10: =IFERROR(INDEX('Préstamos diarios'!$Q$1:$Q$201,MATCH(4,'Préstamos diarios'!$T$2:$T$201,0)+1),"") | E10: =IF(A10="","",C10+D10)
A11: =IFERROR(INDEX('Préstamos diarios'!$A$1:$A$201,MATCH(5,'Préstamos diarios'!$T$2:$T$201,0)+1),"") | B11: =IFERROR(INDEX('Préstamos diarios'!$F$1:$F$201,MATCH(5,'Préstamos diarios'!$T$2:$T$201,0)+1),"") | C11: =IFERROR(INDEX('Préstamos diarios'!$J$1:$J$201,MATCH(5,'Préstamos diarios'!$T$2:$T$201,0)+1),"") | D11: =IFERROR(INDEX('Préstamos diarios'!$Q$1:$Q$201,MATCH(5,'Préstamos diarios'!$T$2:$T$201,0)+1),"") | E11: =IF(A11="","",C11+D11)
A12: =IFERROR(INDEX('Préstamos diarios'!$A$1:$A$201,MATCH(6,'Préstamos diarios'!$T$2:$T$201,0)+1),"") | B12: =IFERROR(INDEX('Préstamos diarios'!$F$1:$F$201,MATCH(6,'Préstamos diarios'!$T$2:$T$201,0)+1),"") | C12: =IFERROR(INDEX('Préstamos diarios'!$J$1:$J$201,MATCH(6,'Préstamos diarios'!$T$2:$T$201,0)+1),"") | D12: =IFERROR(INDEX('Préstamos diarios'!$Q$1:$Q$201,MATCH(6,'Préstamos diarios'!$T$2:$T$201,0)+1),"") | E12: =IF(A12="","",C12+D12)
A13: =IFERROR(INDEX('Préstamos diarios'!$A$1:$A$201,MATCH(7,'Préstamos diarios'!$T$2:$T$201,0)+1),"") | B13: =IFERROR(INDEX('Préstamos diarios'!$F$1:$F$201,MATCH(7,'Préstamos diarios'!$T$2:$T$201,0)+1),"") | C13: =IFERROR(INDEX('Préstamos diarios'!$J$1:$J$201,MATCH(7,'Préstamos diarios'!$T$2:$T$201,0)+1),"") | D13: =IFERROR(INDEX('Préstamos diarios'!$Q$1:$Q$201,MATCH(7,'Préstamos diarios'!$T$2:$T$201,0)+1),"") | E13: =IF(A13="","",C13+D13)
A14: =IFERROR(INDEX('Préstamos diarios'!$A$1:$A$201,MATCH(8,'Préstamos diarios'!$T$2:$T$201,0)+1),"") | B14: =IFERROR(INDEX('Préstamos diarios'!$F$1:$F$201,MATCH(8,'Préstamos diarios'!$T$2:$T$201,0)+1),"") | C14: =IFERROR(INDEX('Préstamos diarios'!$J$1:$J$201,MATCH(8,'Préstamos diarios'!$T$2:$T$201,0)+1),"") | D14: =IFERROR(INDEX('Préstamos diarios'!$Q$1:$Q$201,MATCH(8,'Préstamos diarios'!$T$2:$T$201,0)+1),"") | E14: =IF(A14="","",C14+D14)
A15: =IFERROR(INDEX('Préstamos diarios'!$A$1:$A$201,MATCH(9,'Préstamos diarios'!$T$2:$T$201,0)+1),"") | B15: =IFERROR(INDEX('Préstamos diarios'!$F$1:$F$201,MATCH(9,'Préstamos diarios'!$T$2:$T$201,0)+1),"") | C15: =IFERROR(INDEX('Préstamos diarios'!$J$1:$J$201,MATCH(9,'Préstamos diarios'!$T$2:$T$201,0)+1),"") | D15: =IFERROR(INDEX('Préstamos diarios'!$Q$1:$Q$201,MATCH(9,'Préstamos diarios'!$T$2:$T$201,0)+1),"") | E15: =IF(A15="","",C15+D15)
A16: =IFERROR(INDEX('Préstamos diarios'!$A$1:$A$201,MATCH(10,'Préstamos diarios'!$T$2:$T$201,0)+1),"") | B16: =IFERROR(INDEX('Préstamos diarios'!$F$1:$F$201,MATCH(10,'Préstamos diarios'!$T$2:$T$201,0)+1),"") | C16: =IFERROR(INDEX('Préstamos diarios'!$J$1:$J$201,MATCH(10,'Préstamos diarios'!$T$2:$T$201,0)+1),"") | D16: =IFERROR(INDEX('Préstamos diarios'!$Q$1:$Q$201,MATCH(10,'Préstamos diarios'!$T$2:$T$201,0)+1),"") | E16: =IF(A16="","",C16+D16)
A17: =IFERROR(INDEX('Préstamos diarios'!$A$1:$A$201,MATCH(11,'Préstamos diarios'!$T$2:$T$201,0)+1),"") | B17: =IFERROR(INDEX('Préstamos diarios'!$F$1:$F$201,MATCH(11,'Préstamos diarios'!$T$2:$T$201,0)+1),"") | C17: =IFERROR(INDEX('Préstamos diarios'!$J$1:$J$201,MATCH(11,'Préstamos diarios'!$T$2:$T$201,0)+1),"") | D17: =IFERROR(INDEX('Préstamos diarios'!$Q$1:$Q$201,MATCH(11,'Préstamos diarios'!$T$2:$T$201,0)+1),"") | E17: =IF(A17="","",C17+D17)
A18: =IFERROR(INDEX('Préstamos diarios'!$A$1:$A$201,MATCH(12,'Préstamos diarios'!$T$2:$T$201,0)+1),"") | B18: =IFERROR(INDEX('Préstamos diarios'!$F$1:$F$201,MATCH(12,'Préstamos diarios'!$T$2:$T$201,0)+1),"") | C18: =IFERROR(INDEX('Préstamos diarios'!$J$1:$J$201,MATCH(12,'Préstamos diarios'!$T$2:$T$201,0)+1),"") | D18: =IFERROR(INDEX('Préstamos diarios'!$Q$1:$Q$201,MATCH(12,'Préstamos diarios'!$T$2:$T$201,0)+1),"") | E18: =IF(A18="","",C18+D18)
A19: =IFERROR(INDEX('Préstamos diarios'!$A$1:$A$201,MATCH(13,'Préstamos diarios'!$T$2:$T$201,0)+1),"") | B19: =IFERROR(INDEX('Préstamos diarios'!$F$1:$F$201,MATCH(13,'Préstamos diarios'!$T$2:$T$201,0)+1),"") | C19: =IFERROR(INDEX('Préstamos diarios'!$J$1:$J$201,MATCH(13,'Préstamos diarios'!$T$2:$T$201,0)+1),"") | D19: =IFERROR(INDEX('Préstamos diarios'!$Q$1:$Q$201,MATCH(13,'Préstamos diarios'!$T$2:$T$201,0)+1),"") | E19: =IF(A19="","",C19+D19)
A20: =IFERROR(INDEX('Préstamos diarios'!$A$1:$A$201,MATCH(14,'Préstamos diarios'!$T$2:$T$201,0)+1),"") | B20: =IFERROR(INDEX('Préstamos diarios'!$F$1:$F$201,MATCH(14,'Préstamos diarios'!$T$2:$T$201,0)+1),"") | C20: =IFERROR(INDEX('Préstamos diarios'!$J$1:$J$201,MATCH(14,'Préstamos diarios'!$T$2:$T$201,0)+1),"") | D20: =IFERROR(INDEX('Préstamos diarios'!$Q$1:$Q$201,MATCH(14,'Préstamos diarios'!$T$2:$T$201,0)+1),"") | E20: =IF(A20="","",C20+D20)
A21: =IFERROR(INDEX('Préstamos diarios'!$A$1:$A$201,MATCH(15,'Préstamos diarios'!$T$2:$T$201,0)+1),"") | B21: =IFERROR(INDEX('Préstamos diarios'!$F$1:$F$201,MATCH(15,'Préstamos diarios'!$T$2:$T$201,0)+1),"") | C21: =IFERROR(INDEX('Préstamos diarios'!$J$1:$J$201,MATCH(15,'Préstamos diarios'!$T$2:$T$201,0)+1),"") | D21: =IFERROR(INDEX('Préstamos diarios'!$Q$1:$Q$201,MATCH(15,'Préstamos diarios'!$T$2:$T$201,0)+1),"") | E21: =IF(A21="","",C21+D21)
A22: =IFERROR(INDEX('Préstamos diarios'!$A$1:$A$201,MATCH(16,'Préstamos diarios'!$T$2:$T$201,0)+1),"") | B22: =IFERROR(INDEX('Préstamos diarios'!$F$1:$F$201,MATCH(16,'Préstamos diarios'!$T$2:$T$201,0)+1),"") | C22: =IFERROR(INDEX('Préstamos diarios'!$J$1:$J$201,MATCH(16,'Préstamos diarios'!$T$2:$T$201,0)+1),"") | D22: =IFERROR(INDEX('Préstamos diarios'!$Q$1:$Q$201,MATCH(16,'Préstamos diarios'!$T$2:$T$201,0)+1),"") | E22: =IF(A22="","",C22+D22)
A23: =IFERROR(INDEX('Préstamos diarios'!$A$1:$A$201,MATCH(17,'Préstamos diarios'!$T$2:$T$201,0)+1),"") | B23: =IFERROR(INDEX('Préstamos diarios'!$F$1:$F$201,MATCH(17,'Préstamos diarios'!$T$2:$T$201,0)+1),"") | C23: =IFERROR(INDEX('Préstamos diarios'!$J$1:$J$201,MATCH(17,'Préstamos diarios'!$T$2:$T$201,0)+1),"") | D23: =IFERROR(INDEX('Préstamos diarios'!$Q$1:$Q$201,MATCH(17,'Préstamos diarios'!$T$2:$T$201,0)+1),"") | E23: =IF(A23="","",C23+D23)
A24: =IFERROR(INDEX('Préstamos diarios'!$A$1:$A$201,MATCH(18,'Préstamos diarios'!$T$2:$T$201,0)+1),"") | B24: =IFERROR(INDEX('Préstamos diarios'!$F$1:$F$201,MATCH(18,'Préstamos diarios'!$T$2:$T$201,0)+1),"") | C24: =IFERROR(INDEX('Préstamos diarios'!$J$1:$J$201,MATCH(18,'Préstamos diarios'!$T$2:$T$201,0)+1),"") | D24: =IFERROR(INDEX('Préstamos diarios'!$Q$1:$Q$201,MATCH(18,'Préstamos diarios'!$T$2:$T$201,0)+1),"") | E24: =IF(A24="","",C24+D24)
A25: =IFERROR(INDEX('Préstamos diarios'!$A$1:$A$201,MATCH(19,'Préstamos diarios'!$T$2:$T$201,0)+1),"") | B25: =IFERROR(INDEX('Préstamos diarios'!$F$1:$F$201,MATCH(19,'Préstamos diarios'!$T$2:$T$201,0)+1),"") | C25: =IFERROR(INDEX('Préstamos diarios'!$J$1:$J$201,MATCH(19,'Préstamos diarios'!$T$2:$T$201,0)+1),"") | D25: =IFERROR(INDEX('Préstamos diarios'!$Q$1:$Q$201,MATCH(19,'Préstamos diarios'!$T$2:$T$201,0)+1),"") | E25: =IF(A25="","",C25+D25)
A26: =IFERROR(INDEX('Préstamos diarios'!$A$1:$A$201,MATCH(20,'Préstamos diarios'!$T$2:$T$201,0)+1),"") | B26: =IFERROR(INDEX('Préstamos diarios'!$F$1:$F$201,MATCH(20,'Préstamos diarios'!$T$2:$T$201,0)+1),"") | C26: =IFERROR(INDEX('Préstamos diarios'!$J$1:$J$201,MATCH(20,'Préstamos diarios'!$T$2:$T$201,0)+1),"") | D26: =IFERROR(INDEX('Préstamos diarios'!$Q$1:$Q$201,MATCH(20,'Préstamos diarios'!$T$2:$T$201,0)+1),"") | E26: =IF(A26="","",C26+D26)
A27: =IFERROR(INDEX('Préstamos diarios'!$A$1:$A$201,MATCH(21,'Préstamos diarios'!$T$2:$T$201,0)+1),"") | B27: =IFERROR(INDEX('Préstamos diarios'!$F$1:$F$201,MATCH(21,'Préstamos diarios'!$T$2:$T$201,0)+1),"") | C27: =IFERROR(INDEX('Préstamos diarios'!$J$1:$J$201,MATCH(21,'Préstamos diarios'!$T$2:$T$201,0)+1),"") | D27: =IFERROR(INDEX('Préstamos diarios'!$Q$1:$Q$201,MATCH(21,'Préstamos diarios'!$T$2:$T$201,0)+1),"") | E27: =IF(A27="","",C27+D27)
A28: =IFERROR(INDEX('Préstamos diarios'!$A$1:$A$201,MATCH(22,'Préstamos diarios'!$T$2:$T$201,0)+1),"") | B28: =IFERROR(INDEX('Préstamos diarios'!$F$1:$F$201,MATCH(22,'Préstamos diarios'!$T$2:$T$201,0)+1),"") | C28: =IFERROR(INDEX('Préstamos diarios'!$J$1:$J$201,MATCH(22,'Préstamos diarios'!$T$2:$T$201,0)+1),"") | D28: =IFERROR(INDEX('Préstamos diarios'!$Q$1:$Q$201,MATCH(22,'Préstamos diarios'!$T$2:$T$201,0)+1),"") | E28: =IF(A28="","",C28+D28)
A29: =IFERROR(INDEX('Préstamos diarios'!$A$1:$A$201,MATCH(23,'Préstamos diarios'!$T$2:$T$201,0)+1),"") | B29: =IFERROR(INDEX('Préstamos diarios'!$F$1:$F$201,MATCH(23,'Préstamos diarios'!$T$2:$T$201,0)+1),"") | C29: =IFERROR(INDEX('Préstamos diarios'!$J$1:$J$201,MATCH(23,'Préstamos diarios'!$T$2:$T$201,0)+1),"") | D29: =IFERROR(INDEX('Préstamos diarios'!$Q$1:$Q$201,MATCH(23,'Préstamos diarios'!$T$2:$T$201,0)+1),"") | E29: =IF(A29="","",C29+D29)
A30: =IFERROR(INDEX('Préstamos diarios'!$A$1:$A$201,MATCH(24,'Préstamos diarios'!$T$2:$T$201,0)+1),"") | B30: =IFERROR(INDEX('Préstamos diarios'!$F$1:$F$201,MATCH(24,'Préstamos diarios'!$T$2:$T$201,0)+1),"") | C30: =IFERROR(INDEX('Préstamos diarios'!$J$1:$J$201,MATCH(24,'Préstamos diarios'!$T$2:$T$201,0)+1),"") | D30: =IFERROR(INDEX('Préstamos diarios'!$Q$1:$Q$201,MATCH(24,'Préstamos diarios'!$T$2:$T$201,0)+1),"") | E30: =IF(A30="","",C30+D30)
A31: =IFERROR(INDEX('Préstamos diarios'!$A$1:$A$201,MATCH(25,'Préstamos diarios'!$T$2:$T$201,0)+1),"") | B31: =IFERROR(INDEX('Préstamos diarios'!$F$1:$F$201,MATCH(25,'Préstamos diarios'!$T$2:$T$201,0)+1),"") | C31: =IFERROR(INDEX('Préstamos diarios'!$J$1:$J$201,MATCH(25,'Préstamos diarios'!$T$2:$T$201,0)+1),"") | D31: =IFERROR(INDEX('Préstamos diarios'!$Q$1:$Q$201,MATCH(25,'Préstamos diarios'!$T$2:$T$201,0)+1),"") | E31: =IF(A31="","",C31+D31)
A32: =IFERROR(INDEX('Préstamos diarios'!$A$1:$A$201,MATCH(26,'Préstamos diarios'!$T$2:$T$201,0)+1),"") | B32: =IFERROR(INDEX('Préstamos diarios'!$F$1:$F$201,MATCH(26,'Préstamos diarios'!$T$2:$T$201,0)+1),"") | C32: =IFERROR(INDEX('Préstamos diarios'!$J$1:$J$201,MATCH(26,'Préstamos diarios'!$T$2:$T$201,0)+1),"") | D32: =IFERROR(INDEX('Préstamos diarios'!$Q$1:$Q$201,MATCH(26,'Préstamos diarios'!$T$2:$T$201,0)+1),"") | E32: =IF(A32="","",C32+D32)
A33: =IFERROR(INDEX('Préstamos diarios'!$A$1:$A$201,MATCH(27,'Préstamos diarios'!$T$2:$T$201,0)+1),"") | B33: =IFERROR(INDEX('Préstamos diarios'!$F$1:$F$201,MATCH(27,'Préstamos diarios'!$T$2:$T$201,0)+1),"") | C33: =IFERROR(INDEX('Préstamos diarios'!$J$1:$J$201,MATCH(27,'Préstamos diarios'!$T$2:$T$201,0)+1),"") | D33: =IFERROR(INDEX('Préstamos diarios'!$Q$1:$Q$201,MATCH(27,'Préstamos diarios'!$T$2:$T$201,0)+1),"") | E33: =IF(A33="","",C33+D33)
A34: =IFERROR(INDEX('Préstamos diarios'!$A$1:$A$201,MATCH(28,'Préstamos diarios'!$T$2:$T$201,0)+1),"") | B34: =IFERROR(INDEX('Préstamos diarios'!$F$1:$F$201,MATCH(28,'Préstamos diarios'!$T$2:$T$201,0)+1),"") | C34: =IFERROR(INDEX('Préstamos diarios'!$J$1:$J$201,MATCH(28,'Préstamos diarios'!$T$2:$T$201,0)+1),"") | D34: =IFERROR(INDEX('Préstamos diarios'!$Q$1:$Q$201,MATCH(28,'Préstamos diarios'!$T$2:$T$201,0)+1),"") | E34: =IF(A34="","",C34+D34)
A35: =IFERROR(INDEX('Préstamos diarios'!$A$1:$A$201,MATCH(29,'Préstamos diarios'!$T$2:$T$201,0)+1),"") | B35: =IFERROR(INDEX('Préstamos diarios'!$F$1:$F$201,MATCH(29,'Préstamos diarios'!$T$2:$T$201,0)+1),"") | C35: =IFERROR(INDEX('Préstamos diarios'!$J$1:$J$201,MATCH(29,'Préstamos diarios'!$T$2:$T$201,0)+1),"") | D35: =IFERROR(INDEX('Préstamos diarios'!$Q$1:$Q$201,MATCH(29,'Préstamos diarios'!$T$2:$T$201,0)+1),"") | E35: =IF(A35="","",C35+D35)
A36: =IFERROR(INDEX('Préstamos diarios'!$A$1:$A$201,MATCH(30,'Préstamos diarios'!$T$2:$T$201,0)+1),"") | B36: =IFERROR(INDEX('Préstamos diarios'!$F$1:$F$201,MATCH(30,'Préstamos diarios'!$T$2:$T$201,0)+1),"") | C36: =IFERROR(INDEX('Préstamos diarios'!$J$1:$J$201,MATCH(30,'Préstamos diarios'!$T$2:$T$201,0)+1),"") | D36: =IFERROR(INDEX('Préstamos diarios'!$Q$1:$Q$201,MATCH(30,'Préstamos diarios'!$T$2:$T$201,0)+1),"") | E36: =IF(A36="","",C36+D36)
A37: =IFERROR(INDEX('Préstamos diarios'!$A$1:$A$201,MATCH(31,'Préstamos diarios'!$T$2:$T$201,0)+1),"") | B37: =IFERROR(INDEX('Préstamos diarios'!$F$1:$F$201,MATCH(31,'Préstamos diarios'!$T$2:$T$201,0)+1),"") | C37: =IFERROR(INDEX('Préstamos diarios'!$J$1:$J$201,MATCH(31,'Préstamos diarios'!$T$2:$T$201,0)+1),"") | D37: =IFERROR(INDEX('Préstamos diarios'!$Q$1:$Q$201,MATCH(31,'Préstamos diarios'!$T$2:$T$201,0)+1),"") | E37: =IF(A37="","",C37+D37)
A38: =IFERROR(INDEX('Préstamos diarios'!$A$1:$A$201,MATCH(32,'Préstamos diarios'!$T$2:$T$201,0)+1),"") | B38: =IFERROR(INDEX('Préstamos diarios'!$F$1:$F$201,MATCH(32,'Préstamos diarios'!$T$2:$T$201,0)+1),"") | C38: =IFERROR(INDEX('Préstamos diarios'!$J$1:$J$201,MATCH(32,'Préstamos diarios'!$T$2:$T$201,0)+1),"") | D38: =IFERROR(INDEX('Préstamos diarios'!$Q$1:$Q$201,MATCH(32,'Préstamos diarios'!$T$2:$T$201,0)+1),"") | E38: =IF(A38="","",C38+D38)
A39: =IFERROR(INDEX('Préstamos diarios'!$A$1:$A$201,MATCH(33,'Préstamos diarios'!$T$2:$T$201,0)+1),"") | B39: =IFERROR(INDEX('Préstamos diarios'!$F$1:$F$201,MATCH(33,'Préstamos diarios'!$T$2:$T$201,0)+1),"") | C39: =IFERROR(INDEX('Préstamos diarios'!$J$1:$J$201,MATCH(33,'Préstamos diarios'!$T$2:$T$201,0)+1),"") | D39: =IFERROR(INDEX('Préstamos diarios'!$Q$1:$Q$201,MATCH(33,'Préstamos diarios'!$T$2:$T$201,0)+1),"") | E39: =IF(A39="","",C39+D39)
A40: =IFERROR(INDEX('Préstamos diarios'!$A$1:$A$201,MATCH(34,'Préstamos diarios'!$T$2:$T$201,0)+1),"") | B40: =IFERROR(INDEX('Préstamos diarios'!$F$1:$F$201,MATCH(34,'Préstamos diarios'!$T$2:$T$201,0)+1),"") | C40: =IFERROR(INDEX('Préstamos diarios'!$J$1:$J$201,MATCH(34,'Préstamos diarios'!$T$2:$T$201,0)+1),"") | D40: =IFERROR(INDEX('Préstamos diarios'!$Q$1:$Q$201,MATCH(34,'Préstamos diarios'!$T$2:$T$201,0)+1),"") | E40: =IF(A40="","",C40+D40)
A41: =IFERROR(INDEX('Préstamos diarios'!$A$1:$A$201,MATCH(35,'Préstamos diarios'!$T$2:$T$201,0)+1),"") | B41: =IFERROR(INDEX('Préstamos diarios'!$F$1:$F$201,MATCH(35,'Préstamos diarios'!$T$2:$T$201,0)+1),"") | C41: =IFERROR(INDEX('Préstamos diarios'!$J$1:$J$201,MATCH(35,'Préstamos diarios'!$T$2:$T$201,0)+1),"") | D41: =IFERROR(INDEX('Préstamos diarios'!$Q$1:$Q$201,MATCH(35,'Préstamos diarios'!$T$2:$T$201,0)+1),"") | E41: =IF(A41="","",C41+D41)
A42: =IFERROR(INDEX('Préstamos diarios'!$A$1:$A$201,MATCH(36,'Préstamos diarios'!$T$2:$T$201,0)+1),"") | B42: =IFERROR(INDEX('Préstamos diarios'!$F$1:$F$201,MATCH(36,'Préstamos diarios'!$T$2:$T$201,0)+1),"") | C42: =IFERROR(INDEX('Préstamos diarios'!$J$1:$J$201,MATCH(36,'Préstamos diarios'!$T$2:$T$201,0)+1),"") | D42: =IFERROR(INDEX('Préstamos diarios'!$Q$1:$Q$201,MATCH(36,'Préstamos diarios'!$T$2:$T$201,0)+1),"") | E42: =IF(A42="","",C42+D42)
...

Sheet Cómo se usa
A1: Cómo se usa esta hoja
A3: Un renglón por préstamo, con su folio. Quien tiene dos préstamos lleva dos folios.
A5: El pago diario y el número de pagos son los que pactaste (por ejemplo, 24 pagos de 100). El total
A6: a pagar sale solo. «Cobra domingo» dice si el domingo cuenta como día de cobro; si pones «no», la
A7: hoja se los salta al contar.
A9: Cada abono se anota una sola vez en la pestaña Abonos con el folio, la fecha y quién lo cobró. Dos
A10: días pagados juntos son un abono por el doble: el atraso lo ajusta solo.
A12: Días de cobro a hoy: los días que ya tocaban desde el día siguiente a la entrega. Debió llevar = esos
A13: días por el pago diario. Atraso = lo que debió llevar menos lo abonado. Pagos atrasados = el atraso
A14: en número de pagos. Último pago = la fecha del abono más reciente: si tiene más de tres días, ése
A15: es el cliente que hay que ver primero.
A17: Ruta de hoy: escribe la zona y salen los clientes de esa zona con saldo, lo que toca hoy y su
... A25: Makatea recuerda, registra y comunica. No mueve dinero.
