Workbook

Sheet Estado de cuenta
A1: Estado de cuenta de la unidad
A2: Escribe la unidad en la celda gris. Los movimientos salen solos de la pestaña Movimientos.
A4: Condominio | B4: Residencial Los Fresnos
A5: Propietario(a) | B5: Hugo Ramírez
A6: Corte al | B6: 46308
A7: Unidad | B7: B-302
A9: Fecha | B9: Concepto | C9: Periodo | D9: Cargo | E9: Abono | F9: Saldo | G9: Referencia
A10: =IFERROR(INDEX(Movimientos!A:A,MATCH(1,Movimientos!$H:$H,0)),"") | B10: =IFERROR(INDEX(Movimientos!C:C,MATCH(1,Movimientos!$H:$H,0)),"") | C10: =IFERROR(INDEX(Movimientos!D:D,MATCH(1,Movimientos!$H:$H,0)),"") | D10: =IFERROR(INDEX(Movimientos!E:E,MATCH(1,Movimientos!$H:$H,0)),"") | E10: =IFERROR(INDEX(Movimientos!F:F,MATCH(1,Movimientos!$H:$H,0)),"") | F10: =IF(A10="","",0+N(D10)-N(E10)) | G10: =IFERROR(INDEX(Movimientos!G:G,MATCH(1,Movimientos!$H:$H,0)),"")
A11: =IFERROR(INDEX(Movimientos!A:A,MATCH(2,Movimientos!$H:$H,0)),"") | B11: =IFERROR(INDEX(Movimientos!C:C,MATCH(2,Movimientos!$H:$H,0)),"") | C11: =IFERROR(INDEX(Movimientos!D:D,MATCH(2,Movimientos!$H:$H,0)),"") | D11: =IFERROR(INDEX(Movimientos!E:E,MATCH(2,Movimientos!$H:$H,0)),"") | E11: =IFERROR(INDEX(Movimientos!F:F,MATCH(2,Movimientos!$H:$H,0)),"") | F11: =IF(A11="","",N(F10)+N(D11)-N(E11)) | G11: =IFERROR(INDEX(Movimientos!G:G,MATCH(2,Movimientos!$H:$H,0)),"")
A12: =IFERROR(INDEX(Movimientos!A:A,MATCH(3,Movimientos!$H:$H,0)),"") | B12: =IFERROR(INDEX(Movimientos!C:C,MATCH(3,Movimientos!$H:$H,0)),"") | C12: =IFERROR(INDEX(Movimientos!D:D,MATCH(3,Movimientos!$H:$H,0)),"") | D12: =IFERROR(INDEX(Movimientos!E:E,MATCH(3,Movimientos!$H:$H,0)),"") | E12: =IFERROR(INDEX(Movimientos!F:F,MATCH(3,Movimientos!$H:$H,0)),"") | F12: =IF(A12="","",N(F11)+N(D12)-N(E12)) | G12: =IFERROR(INDEX(Movimientos!G:G,MATCH(3,Movimientos!$H:$H,0)),"")
A13: =IFERROR(INDEX(Movimientos!A:A,MATCH(4,Movimientos!$H:$H,0)),"") | B13: =IFERROR(INDEX(Movimientos!C:C,MATCH(4,Movimientos!$H:$H,0)),"") | C13: =IFERROR(INDEX(Movimientos!D:D,MATCH(4,Movimientos!$H:$H,0)),"") | D13: =IFERROR(INDEX(Movimientos!E:E,MATCH(4,Movimientos!$H:$H,0)),"") | E13: =IFERROR(INDEX(Movimientos!F:F,MATCH(4,Movimientos!$H:$H,0)),"") | F13: =IF(A13="","",N(F12)+N(D13)-N(E13)) | G13: =IFERROR(INDEX(Movimientos!G:G,MATCH(4,Movimientos!$H:$H,0)),"")
A14: =IFERROR(INDEX(Movimientos!A:A,MATCH(5,Movimientos!$H:$H,0)),"") | B14: =IFERROR(INDEX(Movimientos!C:C,MATCH(5,Movimientos!$H:$H,0)),"") | C14: =IFERROR(INDEX(Movimientos!D:D,MATCH(5,Movimientos!$H:$H,0)),"") | D14: =IFERROR(INDEX(Movimientos!E:E,MATCH(5,Movimientos!$H:$H,0)),"") | E14: =IFERROR(INDEX(Movimientos!F:F,MATCH(5,Movimientos!$H:$H,0)),"") | F14: =IF(A14="","",N(F13)+N(D14)-N(E14)) | G14: =IFERROR(INDEX(Movimientos!G:G,MATCH(5,Movimientos!$H:$H,0)),"")
A15: =IFERROR(INDEX(Movimientos!A:A,MATCH(6,Movimientos!$H:$H,0)),"") | B15: =IFERROR(INDEX(Movimientos!C:C,MATCH(6,Movimientos!$H:$H,0)),"") | C15: =IFERROR(INDEX(Movimientos!D:D,MATCH(6,Movimientos!$H:$H,0)),"") | D15: =IFERROR(INDEX(Movimientos!E:E,MATCH(6,Movimientos!$H:$H,0)),"") | E15: =IFERROR(INDEX(Movimientos!F:F,MATCH(6,Movimientos!$H:$H,0)),"") | F15: =IF(A15="","",N(F14)+N(D15)-N(E15)) | G15: =IFERROR(INDEX(Movimientos!G:G,MATCH(6,Movimientos!$H:$H,0)),"")
A16: =IFERROR(INDEX(Movimientos!A:A,MATCH(7,Movimientos!$H:$H,0)),"") | B16: =IFERROR(INDEX(Movimientos!C:C,MATCH(7,Movimientos!$H:$H,0)),"") | C16: =IFERROR(INDEX(Movimientos!D:D,MATCH(7,Movimientos!$H:$H,0)),"") | D16: =IFERROR(INDEX(Movimientos!E:E,MATCH(7,Movimientos!$H:$H,0)),"") | E16: =IFERROR(INDEX(Movimientos!F:F,MATCH(7,Movimientos!$H:$H,0)),"") | F16: =IF(A16="","",N(F15)+N(D16)-N(E16)) | G16: =IFERROR(INDEX(Movimientos!G:G,MATCH(7,Movimientos!$H:$H,0)),"")
A17: =IFERROR(INDEX(Movimientos!A:A,MATCH(8,Movimientos!$H:$H,0)),"") | B17: =IFERROR(INDEX(Movimientos!C:C,MATCH(8,Movimientos!$H:$H,0)),"") | C17: =IFERROR(INDEX(Movimientos!D:D,MATCH(8,Movimientos!$H:$H,0)),"") | D17: =IFERROR(INDEX(Movimientos!E:E,MATCH(8,Movimientos!$H:$H,0)),"") | E17: =IFERROR(INDEX(Movimientos!F:F,MATCH(8,Movimientos!$H:$H,0)),"") | F17: =IF(A17="","",N(F16)+N(D17)-N(E17)) | G17: =IFERROR(INDEX(Movimientos!G:G,MATCH(8,Movimientos!$H:$H,0)),"")
A18: =IFERROR(INDEX(Movimientos!A:A,MATCH(9,Movimientos!$H:$H,0)),"") | B18: =IFERROR(INDEX(Movimientos!C:C,MATCH(9,Movimientos!$H:$H,0)),"") | C18: =IFERROR(INDEX(Movimientos!D:D,MATCH(9,Movimientos!$H:$H,0)),"") | D18: =IFERROR(INDEX(Movimientos!E:E,MATCH(9,Movimientos!$H:$H,0)),"") | E18: =IFERROR(INDEX(Movimientos!F:F,MATCH(9,Movimientos!$H:$H,0)),"") | F18: =IF(A18="","",N(F17)+N(D18)-N(E18)) | G18: =IFERROR(INDEX(Movimientos!G:G,MATCH(9,Movimientos!$H:$H,0)),"")
A19: =IFERROR(INDEX(Movimientos!A:A,MATCH(10,Movimientos!$H:$H,0)),"") | B19: =IFERROR(INDEX(Movimientos!C:C,MATCH(10,Movimientos!$H:$H,0)),"") | C19: =IFERROR(INDEX(Movimientos!D:D,MATCH(10,Movimientos!$H:$H,0)),"") | D19: =IFERROR(INDEX(Movimientos!E:E,MATCH(10,Movimientos!$H:$H,0)),"") | E19: =IFERROR(INDEX(Movimientos!F:F,MATCH(10,Movimientos!$H:$H,0)),"") | F19: =IF(A19="","",N(F18)+N(D19)-N(E19)) | G19: =IFERROR(INDEX(Movimientos!G:G,MATCH(10,Movimientos!$H:$H,0)),"")
A20: =IFERROR(INDEX(Movimientos!A:A,MATCH(11,Movimientos!$H:$H,0)),"") | B20: =IFERROR(INDEX(Movimientos!C:C,MATCH(11,Movimientos!$H:$H,0)),"") | C20: =IFERROR(INDEX(Movimientos!D:D,MATCH(11,Movimientos!$H:$H,0)),"") | D20: =IFERROR(INDEX(Movimientos!E:E,MATCH(11,Movimientos!$H:$H,0)),"") | E20: =IFERROR(INDEX(Movimientos!F:F,MATCH(11,Movimientos!$H:$H,0)),"") | F20: =IF(A20="","",N(F19)+N(D20)-N(E20)) | G20: =IFERROR(INDEX(Movimientos!G:G,MATCH(11,Movimientos!$H:$H,0)),"")
A21: =IFERROR(INDEX(Movimientos!A:A,MATCH(12,Movimientos!$H:$H,0)),"") | B21: =IFERROR(INDEX(Movimientos!C:C,MATCH(12,Movimientos!$H:$H,0)),"") | C21: =IFERROR(INDEX(Movimientos!D:D,MATCH(12,Movimientos!$H:$H,0)),"") | D21: =IFERROR(INDEX(Movimientos!E:E,MATCH(12,Movimientos!$H:$H,0)),"") | E21: =IFERROR(INDEX(Movimientos!F:F,MATCH(12,Movimientos!$H:$H,0)),"") | F21: =IF(A21="","",N(F20)+N(D21)-N(E21)) | G21: =IFERROR(INDEX(Movimientos!G:G,MATCH(12,Movimientos!$H:$H,0)),"")
A22: =IFERROR(INDEX(Movimientos!A:A,MATCH(13,Movimientos!$H:$H,0)),"") | B22: =IFERROR(INDEX(Movimientos!C:C,MATCH(13,Movimientos!$H:$H,0)),"") | C22: =IFERROR(INDEX(Movimientos!D:D,MATCH(13,Movimientos!$H:$H,0)),"") | D22: =IFERROR(INDEX(Movimientos!E:E,MATCH(13,Movimientos!$H:$H,0)),"") | E22: =IFERROR(INDEX(Movimientos!F:F,MATCH(13,Movimientos!$H:$H,0)),"") | F22: =IF(A22="","",N(F21)+N(D22)-N(E22)) | G22: =IFERROR(INDEX(Movimientos!G:G,MATCH(13,Movimientos!$H:$H,0)),"")
A23: =IFERROR(INDEX(Movimientos!A:A,MATCH(14,Movimientos!$H:$H,0)),"") | B23: =IFERROR(INDEX(Movimientos!C:C,MATCH(14,Movimientos!$H:$H,0)),"") | C23: =IFERROR(INDEX(Movimientos!D:D,MATCH(14,Movimientos!$H:$H,0)),"") | D23: =IFERROR(INDEX(Movimientos!E:E,MATCH(14,Movimientos!$H:$H,0)),"") | E23: =IFERROR(INDEX(Movimientos!F:F,MATCH(14,Movimientos!$H:$H,0)),"") | F23: =IF(A23="","",N(F22)+N(D23)-N(E23)) | G23: =IFERROR(INDEX(Movimientos!G:G,MATCH(14,Movimientos!$H:$H,0)),"")
A24: =IFERROR(INDEX(Movimientos!A:A,MATCH(15,Movimientos!$H:$H,0)),"") | B24: =IFERROR(INDEX(Movimientos!C:C,MATCH(15,Movimientos!$H:$H,0)),"") | C24: =IFERROR(INDEX(Movimientos!D:D,MATCH(15,Movimientos!$H:$H,0)),"") | D24: =IFERROR(INDEX(Movimientos!E:E,MATCH(15,Movimientos!$H:$H,0)),"") | E24: =IFERROR(INDEX(Movimientos!F:F,MATCH(15,Movimientos!$H:$H,0)),"") | F24: =IF(A24="","",N(F23)+N(D24)-N(E24)) | G24: =IFERROR(INDEX(Movimientos!G:G,MATCH(15,Movimientos!$H:$H,0)),"")
A25: =IFERROR(INDEX(Movimientos!A:A,MATCH(16,Movimientos!$H:$H,0)),"") | B25: =IFERROR(INDEX(Movimientos!C:C,MATCH(16,Movimientos!$H:$H,0)),"") | C25: =IFERROR(INDEX(Movimientos!D:D,MATCH(16,Movimientos!$H:$H,0)),"") | D25: =IFERROR(INDEX(Movimientos!E:E,MATCH(16,Movimientos!$H:$H,0)),"") | E25: =IFERROR(INDEX(Movimientos!F:F,MATCH(16,Movimientos!$H:$H,0)),"") | F25: =IF(A25="","",N(F24)+N(D25)-N(E25)) | G25: =IFERROR(INDEX(Movimientos!G:G,MATCH(16,Movimientos!$H:$H,0)),"")
A26: =IFERROR(INDEX(Movimientos!A:A,MATCH(17,Movimientos!$H:$H,0)),"") | B26: =IFERROR(INDEX(Movimientos!C:C,MATCH(17,Movimientos!$H:$H,0)),"") | C26: =IFERROR(INDEX(Movimientos!D:D,MATCH(17,Movimientos!$H:$H,0)),"") | D26: =IFERROR(INDEX(Movimientos!E:E,MATCH(17,Movimientos!$H:$H,0)),"") | E26: =IFERROR(INDEX(Movimientos!F:F,MATCH(17,Movimientos!$H:$H,0)),"") | F26: =IF(A26="","",N(F25)+N(D26)-N(E26)) | G26: =IFERROR(INDEX(Movimientos!G:G,MATCH(17,Movimientos!$H:$H,0)),"")
A27: =IFERROR(INDEX(Movimientos!A:A,MATCH(18,Movimientos!$H:$H,0)),"") | B27: =IFERROR(INDEX(Movimientos!C:C,MATCH(18,Movimientos!$H:$H,0)),"") | C27: =IFERROR(INDEX(Movimientos!D:D,MATCH(18,Movimientos!$H:$H,0)),"") | D27: =IFERROR(INDEX(Movimientos!E:E,MATCH(18,Movimientos!$H:$H,0)),"") | E27: =IFERROR(INDEX(Movimientos!F:F,MATCH(18,Movimientos!$H:$H,0)),"") | F27: =IF(A27="","",N(F26)+N(D27)-N(E27)) | G27: =IFERROR(INDEX(Movimientos!G:G,MATCH(18,Movimientos!$H:$H,0)),"")
A28: =IFERROR(INDEX(Movimientos!A:A,MATCH(19,Movimientos!$H:$H,0)),"") | B28: =IFERROR(INDEX(Movimientos!C:C,MATCH(19,Movimientos!$H:$H,0)),"") | C28: =IFERROR(INDEX(Movimientos!D:D,MATCH(19,Movimientos!$H:$H,0)),"") | D28: =IFERROR(INDEX(Movimientos!E:E,MATCH(19,Movimientos!$H:$H,0)),"") | E28: =IFERROR(INDEX(Movimientos!F:F,MATCH(19,Movimientos!$H:$H,0)),"") | F28: =IF(A28="","",N(F27)+N(D28)-N(E28)) | G28: =IFERROR(INDEX(Movimientos!G:G,MATCH(19,Movimientos!$H:$H,0)),"")
A29: =IFERROR(INDEX(Movimientos!A:A,MATCH(20,Movimientos!$H:$H,0)),"") | B29: =IFERROR(INDEX(Movimientos!C:C,MATCH(20,Movimientos!$H:$H,0)),"") | C29: =IFERROR(INDEX(Movimientos!D:D,MATCH(20,Movimientos!$H:$H,0)),"") | D29: =IFERROR(INDEX(Movimientos!E:E,MATCH(20,Movimientos!$H:$H,0)),"") | E29: =IFERROR(INDEX(Movimientos!F:F,MATCH(20,Movimientos!$H:$H,0)),"") | F29: =IF(A29="","",N(F28)+N(D29)-N(E29)) | G29: =IFERROR(INDEX(Movimientos!G:G,MATCH(20,Movimientos!$H:$H,0)),"")
A30: =IFERROR(INDEX(Movimientos!A:A,MATCH(21,Movimientos!$H:$H,0)),"") | B30: =IFERROR(INDEX(Movimientos!C:C,MATCH(21,Movimientos!$H:$H,0)),"") | C30: =IFERROR(INDEX(Movimientos!D:D,MATCH(21,Movimientos!$H:$H,0)),"") | D30: =IFERROR(INDEX(Movimientos!E:E,MATCH(21,Movimientos!$H:$H,0)),"") | E30: =IFERROR(INDEX(Movimientos!F:F,MATCH(21,Movimientos!$H:$H,0)),"") | F30: =IF(A30="","",N(F29)+N(D30)-N(E30)) | G30: =IFERROR(INDEX(Movimientos!G:G,MATCH(21,Movimientos!$H:$H,0)),"")
A31: =IFERROR(INDEX(Movimientos!A:A,MATCH(22,Movimientos!$H:$H,0)),"") | B31: =IFERROR(INDEX(Movimientos!C:C,MATCH(22,Movimientos!$H:$H,0)),"") | C31: =IFERROR(INDEX(Movimientos!D:D,MATCH(22,Movimientos!$H:$H,0)),"") | D31: =IFERROR(INDEX(Movimientos!E:E,MATCH(22,Movimientos!$H:$H,0)),"") | E31: =IFERROR(INDEX(Movimientos!F:F,MATCH(22,Movimientos!$H:$H,0)),"") | F31: =IF(A31="","",N(F30)+N(D31)-N(E31)) | G31: =IFERROR(INDEX(Movimientos!G:G,MATCH(22,Movimientos!$H:$H,0)),"")
A32: =IFERROR(INDEX(Movimientos!A:A,MATCH(23,Movimientos!$H:$H,0)),"") | B32: =IFERROR(INDEX(Movimientos!C:C,MATCH(23,Movimientos!$H:$H,0)),"") | C32: =IFERROR(INDEX(Movimientos!D:D,MATCH(23,Movimientos!$H:$H,0)),"") | D32: =IFERROR(INDEX(Movimientos!E:E,MATCH(23,Movimientos!$H:$H,0)),"") | E32: =IFERROR(INDEX(Movimientos!F:F,MATCH(23,Movimientos!$H:$H,0)),"") | F32: =IF(A32="","",N(F31)+N(D32)-N(E32)) | G32: =IFERROR(INDEX(Movimientos!G:G,MATCH(23,Movimientos!$H:$H,0)),"")
A33: =IFERROR(INDEX(Movimientos!A:A,MATCH(24,Movimientos!$H:$H,0)),"") | B33: =IFERROR(INDEX(Movimientos!C:C,MATCH(24,Movimientos!$H:$H,0)),"") | C33: =IFERROR(INDEX(Movimientos!D:D,MATCH(24,Movimientos!$H:$H,0)),"") | D33: =IFERROR(INDEX(Movimientos!E:E,MATCH(24,Movimientos!$H:$H,0)),"") | E33: =IFERROR(INDEX(Movimientos!F:F,MATCH(24,Movimientos!$H:$H,0)),"") | F33: =IF(A33="","",N(F32)+N(D33)-N(E33)) | G33: =IFERROR(INDEX(Movimientos!G:G,MATCH(24,Movimientos!$H:$H,0)),"")
A34: =IFERROR(INDEX(Movimientos!A:A,MATCH(25,Movimientos!$H:$H,0)),"") | B34: =IFERROR(INDEX(Movimientos!C:C,MATCH(25,Movimientos!$H:$H,0)),"") | C34: =IFERROR(INDEX(Movimientos!D:D,MATCH(25,Movimientos!$H:$H,0)),"") | D34: =IFERROR(INDEX(Movimientos!E:E,MATCH(25,Movimientos!$H:$H,0)),"") | E34: =IFERROR(INDEX(Movimientos!F:F,MATCH(25,Movimientos!$H:$H,0)),"") | F34: =IF(A34="","",N(F33)+N(D34)-N(E34)) | G34: =IFERROR(INDEX(Movimientos!G:G,MATCH(25,Movimientos!$H:$H,0)),"")
A35: =IFERROR(INDEX(Movimientos!A:A,MATCH(26,Movimientos!$H:$H,0)),"") | B35: =IFERROR(INDEX(Movimientos!C:C,MATCH(26,Movimientos!$H:$H,0)),"") | C35: =IFERROR(INDEX(Movimientos!D:D,MATCH(26,Movimientos!$H:$H,0)),"") | D35: =IFERROR(INDEX(Movimientos!E:E,MATCH(26,Movimientos!$H:$H,0)),"") | E35: =IFERROR(INDEX(Movimientos!F:F,MATCH(26,Movimientos!$H:$H,0)),"") | F35: =IF(A35="","",N(F34)+N(D35)-N(E35)) | G35: =IFERROR(INDEX(Movimientos!G:G,MATCH(26,Movimientos!$H:$H,0)),"")
A36: =IFERROR(INDEX(Movimientos!A:A,MATCH(27,Movimientos!$H:$H,0)),"") | B36: =IFERROR(INDEX(Movimientos!C:C,MATCH(27,Movimientos!$H:$H,0)),"") | C36: =IFERROR(INDEX(Movimientos!D:D,MATCH(27,Movimientos!$H:$H,0)),"") | D36: =IFERROR(INDEX(Movimientos!E:E,MATCH(27,Movimientos!$H:$H,0)),"") | E36: =IFERROR(INDEX(Movimientos!F:F,MATCH(27,Movimientos!$H:$H,0)),"") | F36: =IF(A36="","",N(F35)+N(D36)-N(E36)) | G36: =IFERROR(INDEX(Movimientos!G:G,MATCH(27,Movimientos!$H:$H,0)),"")
A37: =IFERROR(INDEX(Movimientos!A:A,MATCH(28,Movimientos!$H:$H,0)),"") | B37: =IFERROR(INDEX(Movimientos!C:C,MATCH(28,Movimientos!$H:$H,0)),"") | C37: =IFERROR(INDEX(Movimientos!D:D,MATCH(28,Movimientos!$H:$H,0)),"") | D37: =IFERROR(INDEX(Movimientos!E:E,MATCH(28,Movimientos!$H:$H,0)),"") | E37: =IFERROR(INDEX(Movimientos!F:F,MATCH(28,Movimientos!$H:$H,0)),"") | F37: =IF(A37="","",N(F36)+N(D37)-N(E37)) | G37: =IFERROR(INDEX(Movimientos!G:G,MATCH(28,Movimientos!$H:$H,0)),"")
A38: =IFERROR(INDEX(Movimientos!A:A,MATCH(29,Movimientos!$H:$H,0)),"") | B38: =IFERROR(INDEX(Movimientos!C:C,MATCH(29,Movimientos!$H:$H,0)),"") | C38: =IFERROR(INDEX(Movimientos!D:D,MATCH(29,Movimientos!$H:$H,0)),"") | D38: =IFERROR(INDEX(Movimientos!E:E,MATCH(29,Movimientos!$H:$H,0)),"") | E38: =IFERROR(INDEX(Movimientos!F:F,MATCH(29,Movimientos!$H:$H,0)),"") | F38: =IF(A38="","",N(F37)+N(D38)-N(E38)) | G38: =IFERROR(INDEX(Movimientos!G:G,MATCH(29,Movimientos!$H:$H,0)),"")
A39: =IFERROR(INDEX(Movimientos!A:A,MATCH(30,Movimientos!$H:$H,0)),"") | B39: =IFERROR(INDEX(Movimientos!C:C,MATCH(30,Movimientos!$H:$H,0)),"") | C39: =IFERROR(INDEX(Movimientos!D:D,MATCH(30,Movimientos!$H:$H,0)),"") | D39: =IFERROR(INDEX(Movimientos!E:E,MATCH(30,Movimientos!$H:$H,0)),"") | E39: =IFERROR(INDEX(Movimientos!F:F,MATCH(30,Movimientos!$H:$H,0)),"") | F39: =IF(A39="","",N(F38)+N(D39)-N(E39)) | G39: =IFERROR(INDEX(Movimientos!G:G,MATCH(30,Movimientos!$H:$H,0)),"")
A40: =IFERROR(INDEX(Movimientos!A:A,MATCH(31,Movimientos!$H:$H,0)),"") | B40: =IFERROR(INDEX(Movimientos!C:C,MATCH(31,Movimientos!$H:$H,0)),"") | C40: =IFERROR(INDEX(Movimientos!D:D,MATCH(31,Movimientos!$H:$H,0)),"") | D40: =IFERROR(INDEX(Movimientos!E:E,MATCH(31,Movimientos!$H:$H,0)),"") | E40: =IFERROR(INDEX(Movimientos!F:F,MATCH(31,Movimientos!$H:$H,0)),"") | F40: =IF(A40="","",N(F39)+N(D40)-N(E40)) | G40: =IFERROR(INDEX(Movimientos!G:G,MATCH(31,Movimientos!$H:$H,0)),"")
A41: =IFERROR(INDEX(Movimientos!A:A,MATCH(32,Movimientos!$H:$H,0)),"") | B41: =IFERROR(INDEX(Movimientos!C:C,MATCH(32,Movimientos!$H:$H,0)),"") | C41: =IFERROR(INDEX(Movimientos!D:D,MATCH(32,Movimientos!$H:$H,0)),"") | D41: =IFERROR(INDEX(Movimientos!E:E,MATCH(32,Movimientos!$H:$H,0)),"") | E41: =IFERROR(INDEX(Movimientos!F:F,MATCH(32,Movimientos!$H:$H,0)),"") | F41: =IF(A41="","",N(F40)+N(D41)-N(E41)) | G41: =IFERROR(INDEX(Movimientos!G:G,MATCH(32,Movimientos!$H:$H,0)),"")
A42: =IFERROR(INDEX(Movimientos!A:A,MATCH(33,Movimientos!$H:$H,0)),"") | B42: =IFERROR(INDEX(Movimientos!C:C,MATCH(33,Movimientos!$H:$H,0)),"") | C42: =IFERROR(INDEX(Movimientos!D:D,MATCH(33,Movimientos!$H:$H,0)),"") | D42: =IFERROR(INDEX(Movimientos!E:E,MATCH(33,Movimientos!$H:$H,0)),"") | E42: =IFERROR(INDEX(Movimientos!F:F,MATCH(33,Movimientos!$H:$H,0)),"") | F42: =IF(A42="","",N(F41)+N(D42)-N(E42)) | G42: =IFERROR(INDEX(Movimientos!G:G,MATCH(33,Movimientos!$H:$H,0)),"")
...

Sheet Movimientos
A1: Fecha | B1: Unidad | C1: Concepto | D1: Periodo | E1: Cargo | F1: Abono | G1: Referencia o folio | H1: n
A2: 46235 | B2: B-302 | C2: Cuota ordinaria | D2: agosto 2026 | E2: 1450 | H2: =IF(AND(B2<>"",B2='Estado de cuenta'!$B$7),COUNTIF($B$2:B2,'Estado de cuenta'!$B$7),"")
A3: 46235 | B3: B-302 | C3: Cuota extraordinaria | D3: impermeabilización 1/3 | E3: 1000 | H3: =IF(AND(B3<>"",B3='Estado de cuenta'!$B$7),COUNTIF($B$2:B3,'Estado de cuenta'!$B$7),"")
A4: 46240 | B4: B-302 | C4: Pago | D4: agosto 2026 | F4: 1450 | G4: F-0812 | H4: =IF(AND(B4<>"",B4='Estado de cuenta'!$B$7),COUNTIF($B$2:B4,'Estado de cuenta'!$B$7),"")
A5: 46266 | B5: B-302 | C5: Cuota ordinaria | D5: septiembre 2026 | E5: 1450 | H5: =IF(AND(B5<>"",B5='Estado de cuenta'!$B$7),COUNTIF($B$2:B5,'Estado de cuenta'!$B$7),"")
A6: 46266 | B6: B-302 | C6: Cuota extraordinaria | D6: impermeabilización 2/3 | E6: 1000 | H6: =IF(AND(B6<>"",B6='Estado de cuenta'!$B$7),COUNTIF($B$2:B6,'Estado de cuenta'!$B$7),"")
A7: 46266 | B7: A-101 | C7: Cuota ordinaria | D7: septiembre 2026 | E7: 1200 | H7: =IF(AND(B7<>"",B7='Estado de cuenta'!$B$7),COUNTIF($B$2:B7,'Estado de cuenta'!$B$7),"")
A8: 46268 | B8: A-101 | C8: Pago | D8: septiembre 2026 | F8: 1200 | G8: F-0901 | H8: =IF(AND(B8<>"",B8='Estado de cuenta'!$B$7),COUNTIF($B$2:B8,'Estado de cuenta'!$B$7),"")
A9: 46283 | B9: B-302 | C9: Recargo aprobado | D9: agosto 2026 | E9: 145 | G9: acta 15-ene-2026 | H9: =IF(AND(B9<>"",B9='Estado de cuenta'!$B$7),COUNTIF($B$2:B9,'Estado de cuenta'!$B$7),"")
A10: 46296 | B10: B-302 | C10: Cuota ordinaria | D10: octubre 2026 | E10: 1450 | H10: =IF(AND(B10<>"",B10='Estado de cuenta'!$B$7),COUNTIF($B$2:B10,'Estado de cuenta'!$B$7),"")
A11: 46296 | B11: B-302 | C11: Cuota extraordinaria | D11: impermeabilización 3/3 | E11: 1000 | H11: =IF(AND(B11<>"",B11='Estado de cuenta'!$B$7),COUNTIF($B$2:B11,'Estado de cuenta'!$B$7),"")
A12: 46300 | B12: B-302 | C12: Pago | D12: septiembre 2026 | F12: 2000 | G12: F-1005 | H12: =IF(AND(B12<>"",B12='Estado de cuenta'!$B$7),COUNTIF($B$2:B12,'Estado de cuenta'!$B$7),"")
H13: =IF(AND(B13<>"",B13='Estado de cuenta'!$B$7),COUNTIF($B$2:B13,'Estado de cuenta'!$B$7),"")
H14: =IF(AND(B14<>"",B14='Estado de cuenta'!$B$7),COUNTIF($B$2:B14,'Estado de cuenta'!$B$7),"")
H15: =IF(AND(B15<>"",B15='Estado de cuenta'!$B$7),COUNTIF($B$2:B15,'Estado de cuenta'!$B$7),"")
H16: =IF(AND(B16<>"",B16='Estado de cuenta'!$B$7),COUNTIF($B$2:B16,'Estado de cuenta'!$B$7),"")
H17: =IF(AND(B17<>"",B17='Estado de cuenta'!$B$7),COUNTIF($B$2:B17,'Estado de cuenta'!$B$7),"")
H18: =IF(AND(B18<>"",B18='Estado de cuenta'!$B$7),COUNTIF($B$2:B18,'Estado de cuenta'!$B$7),"")
H19: =IF(AND(B19<>"",B19='Estado de cuenta'!$B$7),COUNTIF($B$2:B19,'Estado de cuenta'!$B$7),"")
H20: =IF(AND(B20<>"",B20='Estado de cuenta'!$B$7),COUNTIF($B$2:B20,'Estado de cuenta'!$B$7),"")
H21: =IF(AND(B21<>"",B21='Estado de cuenta'!$B$7),COUNTIF($B$2:B21,'Estado de cuenta'!$B$7),"")
H22: =IF(AND(B22<>"",B22='Estado de cuenta'!$B$7),COUNTIF($B$2:B22,'Estado de cuenta'!$B$7),"")
H23: =IF(AND(B23<>"",B23='Estado de cuenta'!$B$7),COUNTIF($B$2:B23,'Estado de cuenta'!$B$7),"")
H24: =IF(AND(B24<>"",B24='Estado de cuenta'!$B$7),COUNTIF($B$2:B24,'Estado de cuenta'!$B$7),"")
... H401: =IF(AND(B401<>"",B401='Estado de cuenta'!$B$7),COUNTIF($B$2:B401,'Estado de cuenta'!$B$7),"")

Sheet Cómo se usa
A1: Cómo se usa esta hoja
A3: El estado de cuenta de una unidad es la lista de lo que se le cargó y lo que pagó, con el saldo
A4: después de cada movimiento. Es lo que el propietario pide antes de pagar un atraso, lo que
A5: acompaña a la carta de cobro y lo que se revisa antes de firmar una carta de no adeudo.
A7: Movimientos: un renglón por cargo o por pago, de todas las unidades, en el orden en que pasan.
A8: La cuota ordinaria, la extraordinaria y el recargo van en renglones separados aunque se
A9: carguen el mismo día: la asamblea los aprueba por separado y así se le explican al condómino.
A11: Estado de cuenta: escribe la unidad en la celda gris y los movimientos de esa unidad salen
A12: solos, con el saldo corrido. Se imprime o se guarda en PDF y se manda sólo a esa unidad.
A14: El recargo va sólo si el reglamento o la asamblea lo aprobaron; anota en la referencia el acta.
A15: Un pago que no cubre el mes completo se anota tal cual: el saldo lo refleja solo.
A17: El estado de cuenta es de la unidad y se manda a su propietario. Nunca se publica la lista de
... A23: Makatea recuerda, registra y comunica. No mueve dinero.
