Workbook

Sheet Estado de cuenta
A1: Estado de cuenta de la unidad
A2: Escribe la unidad en la celda gris. Los movimientos salen solos de la pestaña Movimientos.
A4: Condominio | B4: Residencial Los Fresnos
A5: Propietario(a) | B5: Hugo Ramírez
A6: Corte al | B6: 46308
A7: Unidad | B7: B-302
A9: Fecha | B9: Concepto | C9: Periodo | D9: Cargo | E9: Abono | F9: Saldo | G9: Referencia
A10: =IFERROR(INDEX(Movimientos!A:A,MATCH(1,Movimientos!$H:$H,0)),"") | B10: =IFERROR(INDEX(Movimientos!C:C,MATCH(1,Movimientos!$H:$H,0)),"") | C10: =IFERROR(INDEX(Movimientos!D:D,MATCH(1,Movimientos!$H:$H,0)),"") | D10: =IFERROR(INDEX(Movimientos!E:E,MATCH(1,Movimientos!$H:$H,0)),"") | E10: =IFERROR(INDEX(Movimientos!F:F,MATCH(1,Movimientos!$H:$H,0)),"") | F10: =IF(A10="","",0+N(D10)-N(E10)) | G10: =IFERROR(INDEX(Movimientos!G:G,MATCH(1,Movimientos!$H:$H,0)),"")
A11: =IFERROR(INDEX(Movimientos!A:A,MATCH(2,Movimientos!$H:$H,0)),"") | B11: =IFERROR(INDEX(Movimientos!C:C,MATCH(2,Movimientos!$H:$H,0)),"") | C11: =IFERROR(INDEX(Movimientos!D:D,MATCH(2,Movimientos!$H:$H,0)),"") | D11: =IFERROR(INDEX(Movimientos!E:E,MATCH(2,Movimientos!$H:$H,0)),"") | E11: =IFERROR(INDEX(Movimientos!F:F,MATCH(2,Movimientos!$H:$H,0)),"") | F11: =IF(A11="","",N(F10)+N(D11)-N(E11)) | G11: =IFERROR(INDEX(Movimientos!G:G,MATCH(2,Movimientos!$H:$H,0)),"")
A12: =IFERROR(INDEX(Movimientos!A:A,MATCH(3,Movimientos!$H:$H,0)),"") | B12: =IFERROR(INDEX(Movimientos!C:C,MATCH(3,Movimientos!$H:$H,0)),"") | C12: =IFERROR(INDEX(Movimientos!D:D,MATCH(3,Movimientos!$H:$H,0)),"") | D12: =IFERROR(INDEX(Movimientos!E:E,MATCH(3,Movimientos!$H:$H,0)),"") | E12: =IFERROR(INDEX(Movimientos!F:F,MATCH(3,Movimientos!$H:$H,0)),"") | F12: =IF(A12="","",N(F11)+N(D12)-N(E12)) | G12: =IFERROR(INDEX(Movimientos!G:G,MATCH(3,Movimientos!$H:$H,0)),"")
A13: =IFERROR(INDEX(Movimientos!A:A,MATCH(4,Movimientos!$H:$H,0)),"") | B13: =IFERROR(INDEX(Movimientos!C:C,MATCH(4,Movimientos!$H:$H,0)),"") | C13: =IFERROR(INDEX(Movimientos!D:D,MATCH(4,Movimientos!$H:$H,0)),"") | D13: =IFERROR(INDEX(Movimientos!E:E,MATCH(4,Movimientos!$H:$H,0)),"") | E13: =IFERROR(INDEX(Movimientos!F:F,MATCH(4,Movimientos!$H:$H,0)),"") | F13: =IF(A13="","",N(F12)+N(D13)-N(E13)) | G13: =IFERROR(INDEX(Movimientos!G:G,MATCH(4,Movimientos!$H:$H,0)),"")
A14: =IFERROR(INDEX(Movimientos!A:A,MATCH(5,Movimientos!$H:$H,0)),"") | B14: =IFERROR(INDEX(Movimientos!C:C,MATCH(5,Movimientos!$H:$H,0)),"") | C14: =IFERROR(INDEX(Movimientos!D:D,MATCH(5,Movimientos!$H:$H,0)),"") | D14: =IFERROR(INDEX(Movimientos!E:E,MATCH(5,Movimientos!$H:$H,0)),"") | E14: =IFERROR(INDEX(Movimientos!F:F,MATCH(5,Movimientos!$H:$H,0)),"") | F14: =IF(A14="","",N(F13)+N(D14)-N(E14)) | G14: =IFERROR(INDEX(Movimientos!G:G,MATCH(5,Movimientos!$H:$H,0)),"")
A15: =IFERROR(INDEX(Movimientos!A:A,MATCH(6,Movimientos!$H:$H,0)),"") | B15: =IFERROR(INDEX(Movimientos!C:C,MATCH(6,Movimientos!$H:$H,0)),"") | C15: =IFERROR(INDEX(Movimientos!D:D,MATCH(6,Movimientos!$H:$H,0)),"") | D15: =IFERROR(INDEX(Movimientos!E:E,MATCH(6,Movimientos!$H:$H,0)),"") | E15: =IFERROR(INDEX(Movimientos!F:F,MATCH(6,Movimientos!$H:$H,0)),"") | F15: =IF(A15="","",N(F14)+N(D15)-N(E15)) | G15: =IFERROR(INDEX(Movimientos!G:G,MATCH(6,Movimientos!$H:$H,0)),"")
A16: =IFERROR(INDEX(Movimientos!A:A,MATCH(7,Movimientos!$H:$H,0)),"") | B16: =IFERROR(INDEX(Movimientos!C:C,MATCH(7,Movimientos!$H:$H,0)),"") | C16: =IFERROR(INDEX(Movimientos!D:D,MATCH(7,Movimientos!$H:$H,0)),"") | D16: =IFERROR(INDEX(Movimientos!E:E,MATCH(7,Movimientos!$H:$H,0)),"") | E16: =IFERROR(INDEX(Movimientos!F:F,MATCH(7,Movimientos!$H:$H,0)),"") | F16: =IF(A16="","",N(F15)+N(D16)-N(E16)) | G16: =IFERROR(INDEX(Movimientos!G:G,MATCH(7,Movimientos!$H:$H,0)),"")
A17: =IFERROR(INDEX(Movimientos!A:A,MATCH(8,Movimientos!$H:$H,0)),"") | B17: =IFERROR(INDEX(Movimientos!C:C,MATCH(8,Movimientos!$H:$H,0)),"") | C17: =IFERROR(INDEX(Movimientos!D:D,MATCH(8,Movimientos!$H:$H,0)),"") | D17: =IFERROR(INDEX(Movimientos!E:E,MATCH(8,Movimientos!$H:$H,0)),"") | E17: =IFERROR(INDEX(Movimientos!F:F,MATCH(8,Movimientos!$H:$H,0)),"") | F17: =IF(A17="","",N(F16)+N(D17)-N(E17)) | G17: =IFERROR(INDEX(Movimientos!G:G,MATCH(8,Movimientos!$H:$H,0)),"")
A18: =IFERROR(INDEX(Movimientos!A:A,MATCH(9,Movimientos!$H:$H,0)),"") | B18: =IFERROR(INDEX(Movimientos!C:C,MATCH(9,Movimientos!$H:$H,0)),"") | C18: =IFERROR(INDEX(Movimientos!D:D,MATCH(9,Movimientos!$H:$H,0)),"") | D18: =IFERROR(INDEX(Movimientos!E:E,MATCH(9,Movimientos!$H:$H,0)),"") | E18: =IFERROR(INDEX(Movimientos!F:F,MATCH(9,Movimientos!$H:$H,0)),"") | F18: =IF(A18="","",N(F17)+N(D18)-N(E18)) | G18: =IFERROR(INDEX(Movimientos!G:G,MATCH(9,Movimientos!$H:$H,0)),"")
A19: =IFERROR(INDEX(Movimientos!A:A,MATCH(10,Movimientos!$H:$H,0)),"") | B19: =IFERROR(INDEX(Movimientos!C:C,MATCH(10,Movimientos!$H:$H,0)),"") | C19: =IFERROR(INDEX(Movimientos!D:D,MATCH(10,Movimientos!$H:$H,0)),"") | D19: =IFERROR(INDEX(Movimientos!E:E,MATCH(10,Movimientos!$H:$H,0)),"") | E19: =IFERROR(INDEX(Movimientos!F:F,MATCH(10,Movimientos!$H:$H,0)),"") | F19: =IF(A19="","",N(F18)+N(D19)-N(E19)) | G19: =IFERROR(INDEX(Movimientos!G:G,MATCH(10,Movimientos!$H:$H,0)),"")
A20: =IFERROR(INDEX(Movimientos!A:A,MATCH(11,Movimientos!$H:$H,0)),"") | B20: =IFERROR(INDEX(Movimientos!C:C,MATCH(11,Movimientos!$H:$H,0)),"") | C20: =IFERROR(INDEX(Movimientos!D:D,MATCH(11,Movimientos!$H:$H,0)),"") | D20: =IFERROR(INDEX(Movimientos!E:E,MATCH(11,Movimientos!$H:$H,0)),"") | E20: =IFERROR(INDEX(Movimientos!F:F,MATCH(11,Movimientos!$H:$H,0)),"") | F20: =IF(A20="","",N(F19)+N(D20)-N(E20)) | G20: =IFERROR(INDEX(Movimientos!G:G,MATCH(11,Movimientos!$H:$H,0)),"")
A21: =IFERROR(INDEX(Movimientos!A:A,MATCH(12,Movimientos!$H:$H,0)),"") | B21: =IFERROR(INDEX(Movimientos!C:C,MATCH(12,Movimientos!$H:$H,0)),"") | C21: =IFERROR(INDEX(Movimientos!D:D,MATCH(12,Movimientos!$H:$H,0)),"") | D21: =IFERROR(INDEX(Movimientos!E:E,MATCH(12,Movimientos!$H:$H,0)),"") | E21: =IFERROR(INDEX(Movimientos!F:F,MATCH(12,Movimientos!$H:$H,0)),"") | F21: =IF(A21="","",N(F20)+N(D21)-N(E21)) | G21: =IFERROR(INDEX(Movimientos!G:G,MATCH(12,Movimientos!$H:$H,0)),"")
A22: =IFERROR(INDEX(Movimientos!A:A,MATCH(13,Movimientos!$H:$H,0)),"") | B22: =IFERROR(INDEX(Movimientos!C:C,MATCH(13,Movimientos!$H:$H,0)),"") | C22: =IFERROR(INDEX(Movimientos!D:D,MATCH(13,Movimientos!$H:$H,0)),"") | D22: =IFERROR(INDEX(Movimientos!E:E,MATCH(13,Movimientos!$H:$H,0)),"") | E22: =IFERROR(INDEX(Movimientos!F:F,MATCH(13,Movimientos!$H:$H,0)),"") | F22: =IF(A22="","",N(F21)+N(D22)-N(E22)) | G22: =IFERROR(INDEX(Movimientos!G:G,MATCH(13,Movimientos!$H:$H,0)),"")
A23: =IFERROR(INDEX(Movimientos!A:A,MATCH(14,Movimientos!$H:$H,0)),"") | B23: =IFERROR(INDEX(Movimientos!C:C,MATCH(14,Movimientos!$H:$H,0)),"") | C23: =IFERROR(INDEX(Movimientos!D:D,MATCH(14,Movimientos!$H:$H,0)),"") | D23: =IFERROR(INDEX(Movimientos!E:E,MATCH(14,Movimientos!$H:$H,0)),"") | E23: =IFERROR(INDEX(Movimientos!F:F,MATCH(14,Movimientos!$H:$H,0)),"") | F23: =IF(A23="","",N(F22)+N(D23)-N(E23)) | G23: =IFERROR(INDEX(Movimientos!G:G,MATCH(14,Movimientos!$H:$H,0)),"")
A24: =IFERROR(INDEX(Movimientos!A:A,MATCH(15,Movimientos!$H:$H,0)),"") | B24: =IFERROR(INDEX(Movimientos!C:C,MATCH(15,Movimientos!$H:$H,0)),"") | C24: =IFERROR(INDEX(Movimientos!D:D,MATCH(15,Movimientos!$H:$H,0)),"") | D24: =IFERROR(INDEX(Movimientos!E:E,MATCH(15,Movimientos!$H:$H,0)),"") | E24: =IFERROR(INDEX(Movimientos!F:F,MATCH(15,Movimientos!$H:$H,0)),"") | F24: =IF(A24="","",N(F23)+N(D24)-N(E24)) | G24: =IFERROR(INDEX(Movimientos!G:G,MATCH(15,Movimientos!$H:$H,0)),"")
A25: =IFERROR(INDEX(Movimientos!A:A,MATCH(16,Movimientos!$H:$H,0)),"") | B25: =IFERROR(INDEX(Movimientos!C:C,MATCH(16,Movimientos!$H:$H,0)),"") | C25: =IFERROR(INDEX(Movimientos!D:D,MATCH(16,Movimientos!$H:$H,0)),"") | D25: =IFERROR(INDEX(Movimientos!E:E,MATCH(16,Movimientos!$H:$H,0)),"") | E25: =IFERROR(INDEX(Movimientos!F:F,MATCH(16,Movimientos!$H:$H,0)),"") | F25: =IF(A25="","",N(F24)+N(D25)-N(E25)) | G25: =IFERROR(INDEX(Movimientos!G:G,MATCH(16,Movimientos!$H:$H,0)),"")
A26: =IFERROR(INDEX(Movimientos!A:A,MATCH(17,Movimientos!$H:$H,0)),"") | B26: =IFERROR(INDEX(Movimientos!C:C,MATCH(17,Movimientos!$H:$H,0)),"") | C26: =IFERROR(INDEX(Movimientos!D:D,MATCH(17,Movimientos!$H:$H,0)),"") | D26: =IFERROR(INDEX(Movimientos!E:E,MATCH(17,Movimientos!$H:$H,0)),"") | E26: =IFERROR(INDEX(Movimientos!F:F,MATCH(17,Movimientos!$H:$H,0)),"") | F26: =IF(A26="","",N(F25)+N(D26)-N(E26)) | G26: =IFERROR(INDEX(Movimientos!G:G,MATCH(17,Movimientos!$H:$H,0)),"")
A27: =IFERROR(INDEX(Movimientos!A:A,MATCH(18,Movimientos!$H:$H,0)),"") | B27: =IFERROR(INDEX(Movimientos!C:C,MATCH(18,Movimientos!$H:$H,0)),"") | C27: =IFERROR(INDEX(Movimientos!D:D,MATCH(18,Movimientos!$H:$H,0)),"") | D27: =IFERROR(INDEX(Movimientos!E:E,MATCH(18,Movimientos!$H:$H,0)),"") | E27: =IFERROR(INDEX(Movimientos!F:F,MATCH(18,Movimientos!$H:$H,0)),"") | F27: =IF(A27="","",N(F26)+N(D27)-N(E27)) | G27: =IFERROR(INDEX(Movimientos!G:G,MATCH(18,Movimientos!$H:$H,0)),"")
A28: =IFERROR(INDEX(Movimientos!A:A,MATCH(19,Movimientos!$H:$H,0)),"") | B28: =IFERROR(INDEX(Movimientos!C:C,MATCH(19,Movimientos!$H:$H,0)),"") | C28: =IFERROR(INDEX(Movimientos!D:D,MATCH(19,Movimientos!$H:$H,0)),"") | D28: =IFERROR(INDEX(Movimientos!E:E,MATCH(19,Movimientos!$H:$H,0)),"") | E28: =IFERROR(INDEX(Movimientos!F:F,MATCH(19,Movimientos!$H:$H,0)),"") | F28: =IF(A28="","",N(F27)+N(D28)-N(E28)) | G28: =IFERROR(INDEX(Movimientos!G:G,MATCH(19,Movimientos!$H:$H,0)),"")
A29: =IFERROR(INDEX(Movimientos!A:A,MATCH(20,Movimientos!$H:$H,0)),"") | B29: =IFERROR(INDEX(Movimientos!C:C,MATCH(20,Movimientos!$H:$H,0)),"") | C29: =IFERROR(INDEX(Movimientos!D:D,MATCH(20,Movimientos!$H:$H,0)),"") | D29: =IFERROR(INDEX(Movimientos!E:E,MATCH(20,Movimientos!$H:$H,0)),"") | E29: =IFERROR(INDEX(Movimientos!F:F,MATCH(20,Movimientos!$H:$H,0)),"") | F29: =IF(A29="","",N(F28)+N(D29)-N(E29)) | G29: =IFERROR(INDEX(Movimientos!G:G,MATCH(20,Movimientos!$H:$H,0)),"")
A30: =IFERROR(INDEX(Movimientos!A:A,MATCH(21,Movimientos!$H:$H,0)),"") | B30: =IFERROR(INDEX(Movimientos!C:C,MATCH(21,Movimientos!$H:$H,0)),"") | C30: =IFERROR(INDEX(Movimientos!D:D,MATCH(21,Movimientos!$H:$H,0)),"") | D30: =IFERROR(INDEX(Movimientos!E:E,MATCH(21,Movimientos!$H:$H,0)),"") | E30: =IFERROR(INDEX(Movimientos!F:F,MATCH(21,Movimientos!$H:$H,0)),"") | F30: =IF(A30="","",N(F29)+N(D30)-N(E30)) | G30: =IFERROR(INDEX(Movimientos!G:G,MATCH(21,Movimientos!$H:$H,0)),"")
A31: =IFERROR(INDEX(Movimientos!A:A,MATCH(22,Movimientos!$H:$H,0)),"") | B31: =IFERROR(INDEX(Movimientos!C:C,MATCH(22,Movimientos!$H:$H,0)),"") | C31: =IFERROR(INDEX(Movimientos!D:D,MATCH(22,Movimientos!$H:$H,0)),"") | D31: =IFERROR(INDEX(Movimientos!E:E,MATCH(22,Movimientos!$H:$H,0)),"") | E31: =IFERROR(INDEX(Movimientos!F:F,MATCH(22,Movimientos!$H:$H,0)),"") | F31: =IF(A31="","",N(F30)+N(D31)-N(E31)) | G31: =IFERROR(INDEX(Movimientos!G:G,MATCH(22,Movimientos!$H:$H,0)),"")
A32: =IFERROR(INDEX(Movimientos!A:A,MATCH(23,Movimientos!$H:$H,0)),"") | B32: =IFERROR(INDEX(Movimientos!C:C,MATCH(23,Movimientos!$H:$H,0)),"") | C32: =IFERROR(INDEX(Movimientos!D:D,MATCH(23,Movimientos!$H:$H,0)),"") | D32: =IFERROR(INDEX(Movimientos!E:E,MATCH(23,Movimientos!$H:$H,0)),"") | E32: =IFERROR(INDEX(Movimientos!F:F,MATCH(23,Movimientos!$H:$H,0)),"") | F32: =IF(A32="","",N(F31)+N(D32)-N(E32)) | G32: =IFERROR(INDEX(Movimientos!G:G,MATCH(23,Movimientos!$H:$H,0)),"")
A33: =IFERROR(INDEX(Movimientos!A:A,MATCH(24,Movimientos!$H:$H,0)),"") | B33: =IFERROR(INDEX(Movimientos!C:C,MATCH(24,Movimientos!$H:$H,0)),"") | C33: =IFERROR(INDEX(Movimientos!D:D,MATCH(24,Movimientos!$H:$H,0)),"") | D33: =IFERROR(INDEX(Movimientos!E:E,MATCH(24,Movimientos!$H:$H,0)),"") | E33: =IFERROR(INDEX(Movimientos!F:F,MATCH(24,Movimientos!$H:$H,0)),"") | F33: =IF(A33="","",N(F32)+N(D33)-N(E33)) | G33: =IFERROR(INDEX(Movimientos!G:G,MATCH(24,Movimientos!$H:$H,0)),"")
A34: =IFERROR(INDEX(Movimientos!A:A,MATCH(25,Movimientos!$H:$H,0)),"") | B34: =IFERROR(INDEX(Movimientos!C:C,MATCH(25,Movimientos!$H:$H,0)),"") | C34: =IFERROR(INDEX(Movimientos!D:D,MATCH(25,Movimientos!$H:$H,0)),"") | D34: =IFERROR(INDEX(Movimientos!E:E,MATCH(25,Movimientos!$H:$H,0)),"") | E34: =IFERROR(INDEX(Movimientos!F:F,MATCH(25,Movimientos!$H:$H,0)),"") | F34: =IF(A34="","",N(F33)+N(D34)-N(E34)) | G34: =IFERROR(INDEX(Movimientos!G:G,MATCH(25,Movimientos!$H:$H,0)),"")
A35: =IFERROR(INDEX(Movimientos!A:A,MATCH(26,Movimientos!$H:$H,0)),"") | B35: =IFERROR(INDEX(Movimientos!C:C,MATCH(26,Movimientos!$H:$H,0)),"") | C35: =IFERROR(INDEX(Movimientos!D:D,MATCH(26,Movimientos!$H:$H,0)),"") | D35: =IFERROR(INDEX(Movimientos!E:E,MATCH(26,Movimientos!$H:$H,0)),"") | E35: =IFERROR(INDEX(Movimientos!F:F,MATCH(26,Movimientos!$H:$H,0)),"") | F35: =IF(A35="","",N(F34)+N(D35)-N(E35)) | G35: =IFERROR(INDEX(Movimientos!G:G,MATCH(26,Movimientos!$H:$H,0)),"")
A36: =IFERROR(INDEX(Movimientos!A:A,MATCH(27,Movimientos!$H:$H,0)),"") | B36: =IFERROR(INDEX(Movimientos!C:C,MATCH(27,Movimientos!$H:$H,0)),"") | C36: =IFERROR(INDEX(Movimientos!D:D,MATCH(27,Movimientos!$H:$H,0)),"") | D36: =IFERROR(INDEX(Movimientos!E:E,MATCH(27,Movimientos!$H:$H,0)),"") | E36: =IFERROR(INDEX(Movimientos!F:F,MATCH(27,Movimientos!$H:$H,0)),"") | F36: =IF(A36="","",N(F35)+N(D36)-N(E36)) | G36: =IFERROR(INDEX(Movimientos!G:G,MATCH(27,Movimientos!$H:$H,0)),"")
A37: =IFERROR(INDEX(Movimientos!A:A,MATCH(28,Movimientos!$H:$H,0)),"") | B37: =IFERROR(INDEX(Movimientos!C:C,MATCH(28,Movimientos!$H:$H,0)),"") | C37: =IFERROR(INDEX(Movimientos!D:D,MATCH(28,Movimientos!$H:$H,0)),"") | D37: =IFERROR(INDEX(Movimientos!E:E,MATCH(28,Movimientos!$H:$H,0)),"") | E37: =IFERROR(INDEX(Movimientos!F:F,MATCH(28,Movimientos!$H:$H,0)),"") | F37: =IF(A37="","",N(F36)+N(D37)-N(E37)) | G37: =IFERROR(INDEX(Movimientos!G:G,MATCH(28,Movimientos!$H:$H,0)),"")
A38: =IFERROR(INDEX(Movimientos!A:A,MATCH(29,Movimientos!$H:$H,0)),"") | B38: =IFERROR(INDEX(Movimientos!C:C,MATCH(29,Movimientos!$H:$H,0)),"") | C38: =IFERROR(INDEX(Movimientos!D:D,MATCH(29,Movimientos!$H:$H,0)),"") | D38: =IFERROR(INDEX(Movimientos!E:E,MATCH(29,Movimientos!$H:$H,0)),"") | E38: =IFERROR(INDEX(Movimientos!F:F,MATCH(29,Movimientos!$H:$H,0)),"") | F38: =IF(A38="","",N(F37)+N(D38)-N(E38)) | G38: =IFERROR(INDEX(Movimientos!G:G,MATCH(29,Movimientos!$H:$H,0)),"")
A39: =IFERROR(INDEX(Movimientos!A:A,MATCH(30,Movimientos!$H:$H,0)),"") | B39: =IFERROR(INDEX(Movimientos!C:C,MATCH(30,Movimientos!$H:$H,0)),"") | C39: =IFERROR(INDEX(Movimientos!D:D,MATCH(30,Movimientos!$H:$H,0)),"") | D39: =IFERROR(INDEX(Movimientos!E:E,MATCH(30,Movimientos!$H:$H,0)),"") | E39: =IFERROR(INDEX(Movimientos!F:F,MATCH(30,Movimientos!$H:$H,0)),"") | F39: =IF(A39="","",N(F38)+N(D39)-N(E39)) | G39: =IFERROR(INDEX(Movimientos!G:G,MATCH(30,Movimientos!$H:$H,0)),"")
A40: =IFERROR(INDEX(Movimientos!A:A,MATCH(31,Movimientos!$H:$H,0)),"") | B40: =IFERROR(INDEX(Movimientos!C:C,MATCH(31,Movimientos!$H:$H,0)),"") | C40: =IFERROR(INDEX(Movimientos!D:D,MATCH(31,Movimientos!$H:$H,0)),"") | D40: =IFERROR(INDEX(Movimientos!E:E,MATCH(31,Movimientos!$H:$H,0)),"") | E40: =IFERROR(INDEX(Movimientos!F:F,MATCH(31,Movimientos!$H:$H,0)),"") | F40: =IF(A40="","",N(F39)+N(D40)-N(E40)) | G40: =IFERROR(INDEX(Movimientos!G:G,MATCH(31,Movimientos!$H:$H,0)),"")
A41: =IFERROR(INDEX(Movimientos!A:A,MATCH(32,Movimientos!$H:$H,0)),"") | B41: =IFERROR(INDEX(Movimientos!C:C,MATCH(32,Movimientos!$H:$H,0)),"") | C41: =IFERROR(INDEX(Movimientos!D:D,MATCH(32,Movimientos!$H:$H,0)),"") | D41: =IFERROR(INDEX(Movimientos!E:E,MATCH(32,Movimientos!$H:$H,0)),"") | E41: =IFERROR(INDEX(Movimientos!F:F,MATCH(32,Movimientos!$H:$H,0)),"") | F41: =IF(A41="","",N(F40)+N(D41)-N(E41)) | G41: =IFERROR(INDEX(Movimientos!G:G,MATCH(32,Movimientos!$H:$H,0)),"")
A42: =IFERROR(INDEX(Movimientos!A:A,MATCH(33,Movimientos!$H:$H,0)),"") | B42: =IFERROR(INDEX(Movimientos!C:C,MATCH(33,Movimientos!$H:$H,0)),"") | C42: =IFERROR(INDEX(Movimientos!D:D,MATCH(33,Movimientos!$H:$H,0)),"") | D42: =IFERROR(INDEX(Movimientos!E:E,MATCH(33,Movimientos!$H:$H,0)),"") | E42: =IFERROR(INDEX(Movimientos!F:F,MATCH(33,Movimientos!$H:$H,0)),"") | F42: =IF(A42="","",N(F41)+N(D42)-N(E42)) | G42: =IFERROR(INDEX(Movimientos!G:G,MATCH(33,Movimientos!$H:$H,0)),"")
A43: =IFERROR(INDEX(Movimientos!A:A,MATCH(34,Movimientos!$H:$H,0)),"") | B43: =IFERROR(INDEX(Movimientos!C:C,MATCH(34,Movimientos!$H:$H,0)),"") | C43: =IFERROR(INDEX(Movimientos!D:D,MATCH(34,Movimientos!$H:$H,0)),"") | D43: =IFERROR(INDEX(Movimientos!E:E,MATCH(34,Movimientos!$H:$H,0)),"") | E43: =IFERROR(INDEX(Movimientos!F:F,MATCH(34,Movimientos!$H:$H,0)),"") | F43: =IF(A43="","",N(F42)+N(D43)-N(E43)) | G43: =IFERROR(INDEX(Movimientos!G:G,MATCH(34,Movimientos!$H:$H,0)),"")
A44: =IFERROR(INDEX(Movimientos!A:A,MATCH(35,Movimientos!$H:$H,0)),"") | B44: =IFERROR(INDEX(Movimientos!C:C,MATCH(35,Movimientos!$H:$H,0)),"") | C44: =IFERROR(INDEX(Movimientos!D:D,MATCH(35,Movimientos!$H:$H,0)),"") | D44: =IFERROR(INDEX(Movimientos!E:E,MATCH(35,Movimientos!$H:$H,0)),"") | E44: =IFERROR(INDEX(Movimientos!F:F,MATCH(35,Movimientos!$H:$H,0)),"") | F44: =IF(A44="","",N(F43)+N(D44)-N(E44)) | G44: =IFERROR(INDEX(Movimientos!G:G,MATCH(35,Movimientos!$H:$H,0)),"")
A45: =IFERROR(INDEX(Movimientos!A:A,MATCH(36,Movimientos!$H:$H,0)),"") | B45: =IFERROR(INDEX(Movimientos!C:C,MATCH(36,Movimientos!$H:$H,0)),"") | C45: =IFERROR(INDEX(Movimientos!D:D,MATCH(36,Movimientos!$H:$H,0)),"") | D45: =IFERROR(INDEX(Movimientos!E:E,MATCH(36,Movimientos!$H:$H,0)),"") | E45: =IFERROR(INDEX(Movimientos!F:F,MATCH(36,Movimientos!$H:$H,0)),"") | F45: =IF(A45="","",N(F44)+N(D45)-N(E45)) | G45: =IFERROR(INDEX(Movimientos!G:G,MATCH(36,Movimientos!$H:$H,0)),"")
A46: =IFERROR(INDEX(Movimientos!A:A,MATCH(37,Movimientos!$H:$H,0)),"") | B46: =IFERROR(INDEX(Movimientos!C:C,MATCH(37,Movimientos!$H:$H,0)),"") | C46: =IFERROR(INDEX(Movimientos!D:D,MATCH(37,Movimientos!$H:$H,0)),"") | D46: =IFERROR(INDEX(Movimientos!E:E,MATCH(37,Movimientos!$H:$H,0)),"") | E46: =IFERROR(INDEX(Movimientos!F:F,MATCH(37,Movimientos!$H:$H,0)),"") | F46: =IF(A46="","",N(F45)+N(D46)-N(E46)) | G46: =IFERROR(INDEX(Movimientos!G:G,MATCH(37,Movimientos!$H:$H,0)),"")
A47: =IFERROR(INDEX(Movimientos!A:A,MATCH(38,Movimientos!$H:$H,0)),"") | B47: =IFERROR(INDEX(Movimientos!C:C,MATCH(38,Movimientos!$H:$H,0)),"") | C47: =IFERROR(INDEX(Movimientos!D:D,MATCH(38,Movimientos!$H:$H,0)),"") | D47: =IFERROR(INDEX(Movimientos!E:E,MATCH(38,Movimientos!$H:$H,0)),"") | E47: =IFERROR(INDEX(Movimientos!F:F,MATCH(38,Movimientos!$H:$H,0)),"") | F47: =IF(A47="","",N(F46)+N(D47)-N(E47)) | G47: =IFERROR(INDEX(Movimientos!G:G,MATCH(38,Movimientos!$H:$H,0)),"")
A48: =IFERROR(INDEX(Movimientos!A:A,MATCH(39,Movimientos!$H:$H,0)),"") | B48: =IFERROR(INDEX(Movimientos!C:C,MATCH(39,Movimientos!$H:$H,0)),"") | C48: =IFERROR(INDEX(Movimientos!D:D,MATCH(39,Movimientos!$H:$H,0)),"") | D48: =IFERROR(INDEX(Movimientos!E:E,MATCH(39,Movimientos!$H:$H,0)),"") | E48: =IFERROR(INDEX(Movimientos!F:F,MATCH(39,Movimientos!$H:$H,0)),"") | F48: =IF(A48="","",N(F47)+N(D48)-N(E48)) | G48: =IFERROR(INDEX(Movimientos!G:G,MATCH(39,Movimientos!$H:$H,0)),"")
A49: =IFERROR(INDEX(Movimientos!A:A,MATCH(40,Movimientos!$H:$H,0)),"") | B49: =IFERROR(INDEX(Movimientos!C:C,MATCH(40,Movimientos!$H:$H,0)),"") | C49: =IFERROR(INDEX(Movimientos!D:D,MATCH(40,Movimientos!$H:$H,0)),"") | D49: =IFERROR(INDEX(Movimientos!E:E,MATCH(40,Movimientos!$H:$H,0)),"") | E49: =IFERROR(INDEX(Movimientos!F:F,MATCH(40,Movimientos!$H:$H,0)),"") | F49: =IF(A49="","",N(F48)+N(D49)-N(E49)) | G49: =IFERROR(INDEX(Movimientos!G:G,MATCH(40,Movimientos!$H:$H,0)),"")
A50: =IFERROR(INDEX(Movimientos!A:A,MATCH(41,Movimientos!$H:$H,0)),"") | B50: =IFERROR(INDEX(Movimientos!C:C,MATCH(41,Movimientos!$H:$H,0)),"") | C50: =IFERROR(INDEX(Movimientos!D:D,MATCH(41,Movimientos!$H:$H,0)),"") | D50: =IFERROR(INDEX(Movimientos!E:E,MATCH(41,Movimientos!$H:$H,0)),"") | E50: =IFERROR(INDEX(Movimientos!F:F,MATCH(41,Movimientos!$H:$H,0)),"") | F50: =IF(A50="","",N(F49)+N(D50)-N(E50)) | G50: =IFERROR(INDEX(Movimientos!G:G,MATCH(41,Movimientos!$H:$H,0)),"")
A51: =IFERROR(INDEX(Movimientos!A:A,MATCH(42,Movimientos!$H:$H,0)),"") | B51: =IFERROR(INDEX(Movimientos!C:C,MATCH(42,Movimientos!$H:$H,0)),"") | C51: =IFERROR(INDEX(Movimientos!D:D,MATCH(42,Movimientos!$H:$H,0)),"") | D51: =IFERROR(INDEX(Movimientos!E:E,MATCH(42,Movimientos!$H:$H,0)),"") | E51: =IFERROR(INDEX(Movimientos!F:F,MATCH(42,Movimientos!$H:$H,0)),"") | F51: =IF(A51="","",N(F50)+N(D51)-N(E51)) | G51: =IFERROR(INDEX(Movimientos!G:G,MATCH(42,Movimientos!$H:$H,0)),"")
A52: =IFERROR(INDEX(Movimientos!A:A,MATCH(43,Movimientos!$H:$H,0)),"") | B52: =IFERROR(INDEX(Movimientos!C:C,MATCH(43,Movimientos!$H:$H,0)),"") | C52: =IFERROR(INDEX(Movimientos!D:D,MATCH(43,Movimientos!$H:$H,0)),"") | D52: =IFERROR(INDEX(Movimientos!E:E,MATCH(43,Movimientos!$H:$H,0)),"") | E52: =IFERROR(INDEX(Movimientos!F:F,MATCH(43,Movimientos!$H:$H,0)),"") | F52: =IF(A52="","",N(F51)+N(D52)-N(E52)) | G52: =IFERROR(INDEX(Movimientos!G:G,MATCH(43,Movimientos!$H:$H,0)),"")
A53: =IFERROR(INDEX(Movimientos!A:A,MATCH(44,Movimientos!$H:$H,0)),"") | B53: =IFERROR(INDEX(Movimientos!C:C,MATCH(44,Movimientos!$H:$H,0)),"") | C53: =IFERROR(INDEX(Movimientos!D:D,MATCH(44,Movimientos!$H:$H,0)),"") | D53: =IFERROR(INDEX(Movimientos!E:E,MATCH(44,Movimientos!$H:$H,0)),"") | E53: =IFERROR(INDEX(Movimientos!F:F,MATCH(44,Movimientos!$H:$H,0)),"") | F53: =IF(A53="","",N(F52)+N(D53)-N(E53)) | G53: =IFERROR(INDEX(Movimientos!G:G,MATCH(44,Movimientos!$H:$H,0)),"")
A54: =IFERROR(INDEX(Movimientos!A:A,MATCH(45,Movimientos!$H:$H,0)),"") | B54: =IFERROR(INDEX(Movimientos!C:C,MATCH(45,Movimientos!$H:$H,0)),"") | C54: =IFERROR(INDEX(Movimientos!D:D,MATCH(45,Movimientos!$H:$H,0)),"") | D54: =IFERROR(INDEX(Movimientos!E:E,MATCH(45,Movimientos!$H:$H,0)),"") | E54: =IFERROR(INDEX(Movimientos!F:F,MATCH(45,Movimientos!$H:$H,0)),"") | F54: =IF(A54="","",N(F53)+N(D54)-N(E54)) | G54: =IFERROR(INDEX(Movimientos!G:G,MATCH(45,Movimientos!$H:$H,0)),"")
A55: =IFERROR(INDEX(Movimientos!A:A,MATCH(46,Movimientos!$H:$H,0)),"") | B55: =IFERROR(INDEX(Movimientos!C:C,MATCH(46,Movimientos!$H:$H,0)),"") | C55: =IFERROR(INDEX(Movimientos!D:D,MATCH(46,Movimientos!$H:$H,0)),"") | D55: =IFERROR(INDEX(Movimientos!E:E,MATCH(46,Movimientos!$H:$H,0)),"") | E55: =IFERROR(INDEX(Movimientos!F:F,MATCH(46,Movimientos!$H:$H,0)),"") | F55: =IF(A55="","",N(F54)+N(D55)-N(E55)) | G55: =IFERROR(INDEX(Movimientos!G:G,MATCH(46,Movimientos!$H:$H,0)),"")
A56: =IFERROR(INDEX(Movimientos!A:A,MATCH(47,Movimientos!$H:$H,0)),"") | B56: =IFERROR(INDEX(Movimientos!C:C,MATCH(47,Movimientos!$H:$H,0)),"") | C56: =IFERROR(INDEX(Movimientos!D:D,MATCH(47,Movimientos!$H:$H,0)),"") | D56: =IFERROR(INDEX(Movimientos!E:E,MATCH(47,Movimientos!$H:$H,0)),"") | E56: =IFERROR(INDEX(Movimientos!F:F,MATCH(47,Movimientos!$H:$H,0)),"") | F56: =IF(A56="","",N(F55)+N(D56)-N(E56)) | G56: =IFERROR(INDEX(Movimientos!G:G,MATCH(47,Movimientos!$H:$H,0)),"")
A57: =IFERROR(INDEX(Movimientos!A:A,MATCH(48,Movimientos!$H:$H,0)),"") | B57: =IFERROR(INDEX(Movimientos!C:C,MATCH(48,Movimientos!$H:$H,0)),"") | C57: =IFERROR(INDEX(Movimientos!D:D,MATCH(48,Movimientos!$H:$H,0)),"") | D57: =IFERROR(INDEX(Movimientos!E:E,MATCH(48,Movimientos!$H:$H,0)),"") | E57: =IFERROR(INDEX(Movimientos!F:F,MATCH(48,Movimientos!$H:$H,0)),"") | F57: =IF(A57="","",N(F56)+N(D57)-N(E57)) | G57: =IFERROR(INDEX(Movimientos!G:G,MATCH(48,Movimientos!$H:$H,0)),"")
A58: =IFERROR(INDEX(Movimientos!A:A,MATCH(49,Movimientos!$H:$H,0)),"") | B58: =IFERROR(INDEX(Movimientos!C:C,MATCH(49,Movimientos!$H:$H,0)),"") | C58: =IFERROR(INDEX(Movimientos!D:D,MATCH(49,Movimientos!$H:$H,0)),"") | D58: =IFERROR(INDEX(Movimientos!E:E,MATCH(49,Movimientos!$H:$H,0)),"") | E58: =IFERROR(INDEX(Movimientos!F:F,MATCH(49,Movimientos!$H:$H,0)),"") | F58: =IF(A58="","",N(F57)+N(D58)-N(E58)) | G58: =IFERROR(INDEX(Movimientos!G:G,MATCH(49,Movimientos!$H:$H,0)),"")
A59: =IFERROR(INDEX(Movimientos!A:A,MATCH(50,Movimientos!$H:$H,0)),"") | B59: =IFERROR(INDEX(Movimientos!C:C,MATCH(50,Movimientos!$H:$H,0)),"") | C59: =IFERROR(INDEX(Movimientos!D:D,MATCH(50,Movimientos!$H:$H,0)),"") | D59: =IFERROR(INDEX(Movimientos!E:E,MATCH(50,Movimientos!$H:$H,0)),"") | E59: =IFERROR(INDEX(Movimientos!F:F,MATCH(50,Movimientos!$H:$H,0)),"") | F59: =IF(A59="","",N(F58)+N(D59)-N(E59)) | G59: =IFERROR(INDEX(Movimientos!G:G,MATCH(50,Movimientos!$H:$H,0)),"")
A60: =IFERROR(INDEX(Movimientos!A:A,MATCH(51,Movimientos!$H:$H,0)),"") | B60: =IFERROR(INDEX(Movimientos!C:C,MATCH(51,Movimientos!$H:$H,0)),"") | C60: =IFERROR(INDEX(Movimientos!D:D,MATCH(51,Movimientos!$H:$H,0)),"") | D60: =IFERROR(INDEX(Movimientos!E:E,MATCH(51,Movimientos!$H:$H,0)),"") | E60: =IFERROR(INDEX(Movimientos!F:F,MATCH(51,Movimientos!$H:$H,0)),"") | F60: =IF(A60="","",N(F59)+N(D60)-N(E60)) | G60: =IFERROR(INDEX(Movimientos!G:G,MATCH(51,Movimientos!$H:$H,0)),"")
A61: =IFERROR(INDEX(Movimientos!A:A,MATCH(52,Movimientos!$H:$H,0)),"") | B61: =IFERROR(INDEX(Movimientos!C:C,MATCH(52,Movimientos!$H:$H,0)),"") | C61: =IFERROR(INDEX(Movimientos!D:D,MATCH(52,Movimientos!$H:$H,0)),"") | D61: =IFERROR(INDEX(Movimientos!E:E,MATCH(52,Movimientos!$H:$H,0)),"") | E61: =IFERROR(INDEX(Movimientos!F:F,MATCH(52,Movimientos!$H:$H,0)),"") | F61: =IF(A61="","",N(F60)+N(D61)-N(E61)) | G61: =IFERROR(INDEX(Movimientos!G:G,MATCH(52,Movimientos!$H:$H,0)),"")
A62: =IFERROR(INDEX(Movimientos!A:A,MATCH(53,Movimientos!$H:$H,0)),"") | B62: =IFERROR(INDEX(Movimientos!C:C,MATCH(53,Movimientos!$H:$H,0)),"") | C62: =IFERROR(INDEX(Movimientos!D:D,MATCH(53,Movimientos!$H:$H,0)),"") | D62: =IFERROR(INDEX(Movimientos!E:E,MATCH(53,Movimientos!$H:$H,0)),"") | E62: =IFERROR(INDEX(Movimientos!F:F,MATCH(53,Movimientos!$H:$H,0)),"") | F62: =IF(A62="","",N(F61)+N(D62)-N(E62)) | G62: =IFERROR(INDEX(Movimientos!G:G,MATCH(53,Movimientos!$H:$H,0)),"")
A63: =IFERROR(INDEX(Movimientos!A:A,MATCH(54,Movimientos!$H:$H,0)),"") | B63: =IFERROR(INDEX(Movimientos!C:C,MATCH(54,Movimientos!$H:$H,0)),"") | C63: =IFERROR(INDEX(Movimientos!D:D,MATCH(54,Movimientos!$H:$H,0)),"") | D63: =IFERROR(INDEX(Movimientos!E:E,MATCH(54,Movimientos!$H:$H,0)),"") | E63: =IFERROR(INDEX(Movimientos!F:F,MATCH(54,Movimientos!$H:$H,0)),"") | F63: =IF(A63="","",N(F62)+N(D63)-N(E63)) | G63: =IFERROR(INDEX(Movimientos!G:G,MATCH(54,Movimientos!$H:$H,0)),"")
A64: =IFERROR(INDEX(Movimientos!A:A,MATCH(55,Movimientos!$H:$H,0)),"") | B64: =IFERROR(INDEX(Movimientos!C:C,MATCH(55,Movimientos!$H:$H,0)),"") | C64: =IFERROR(INDEX(Movimientos!D:D,MATCH(55,Movimientos!$H:$H,0)),"") | D64: =IFERROR(INDEX(Movimientos!E:E,MATCH(55,Movimientos!$H:$H,0)),"") | E64: =IFERROR(INDEX(Movimientos!F:F,MATCH(55,Movimientos!$H:$H,0)),"") | F64: =IF(A64="","",N(F63)+N(D64)-N(E64)) | G64: =IFERROR(INDEX(Movimientos!G:G,MATCH(55,Movimientos!$H:$H,0)),"")
A65: =IFERROR(INDEX(Movimientos!A:A,MATCH(56,Movimientos!$H:$H,0)),"") | B65: =IFERROR(INDEX(Movimientos!C:C,MATCH(56,Movimientos!$H:$H,0)),"") | C65: =IFERROR(INDEX(Movimientos!D:D,MATCH(56,Movimientos!$H:$H,0)),"") | D65: =IFERROR(INDEX(Movimientos!E:E,MATCH(56,Movimientos!$H:$H,0)),"") | E65: =IFERROR(INDEX(Movimientos!F:F,MATCH(56,Movimientos!$H:$H,0)),"") | F65: =IF(A65="","",N(F64)+N(D65)-N(E65)) | G65: =IFERROR(INDEX(Movimientos!G:G,MATCH(56,Movimientos!$H:$H,0)),"")
A66: =IFERROR(INDEX(Movimientos!A:A,MATCH(57,Movimientos!$H:$H,0)),"") | B66: =IFERROR(INDEX(Movimientos!C:C,MATCH(57,Movimientos!$H:$H,0)),"") | C66: =IFERROR(INDEX(Movimientos!D:D,MATCH(57,Movimientos!$H:$H,0)),"") | D66: =IFERROR(INDEX(Movimientos!E:E,MATCH(57,Movimientos!$H:$H,0)),"") | E66: =IFERROR(INDEX(Movimientos!F:F,MATCH(57,Movimientos!$H:$H,0)),"") | F66: =IF(A66="","",N(F65)+N(D66)-N(E66)) | G66: =IFERROR(INDEX(Movimientos!G:G,MATCH(57,Movimientos!$H:$H,0)),"")
A67: =IFERROR(INDEX(Movimientos!A:A,MATCH(58,Movimientos!$H:$H,0)),"") | B67: =IFERROR(INDEX(Movimientos!C:C,MATCH(58,Movimientos!$H:$H,0)),"") | C67: =IFERROR(INDEX(Movimientos!D:D,MATCH(58,Movimientos!$H:$H,0)),"") | D67: =IFERROR(INDEX(Movimientos!E:E,MATCH(58,Movimientos!$H:$H,0)),"") | E67: =IFERROR(INDEX(Movimientos!F:F,MATCH(58,Movimientos!$H:$H,0)),"") | F67: =IF(A67="","",N(F66)+N(D67)-N(E67)) | G67: =IFERROR(INDEX(Movimientos!G:G,MATCH(58,Movimientos!$H:$H,0)),"")
A68: =IFERROR(INDEX(Movimientos!A:A,MATCH(59,Movimientos!$H:$H,0)),"") | B68: =IFERROR(INDEX(Movimientos!C:C,MATCH(59,Movimientos!$H:$H,0)),"") | C68: =IFERROR(INDEX(Movimientos!D:D,MATCH(59,Movimientos!$H:$H,0)),"") | D68: =IFERROR(INDEX(Movimientos!E:E,MATCH(59,Movimientos!$H:$H,0)),"") | E68: =IFERROR(INDEX(Movimientos!F:F,MATCH(59,Movimientos!$H:$H,0)),"") | F68: =IF(A68="","",N(F67)+N(D68)-N(E68)) | G68: =IFERROR(INDEX(Movimientos!G:G,MATCH(59,Movimientos!$H:$H,0)),"")
A69: =IFERROR(INDEX(Movimientos!A:A,MATCH(60,Movimientos!$H:$H,0)),"") | B69: =IFERROR(INDEX(Movimientos!C:C,MATCH(60,Movimientos!$H:$H,0)),"") | C69: =IFERROR(INDEX(Movimientos!D:D,MATCH(60,Movimientos!$H:$H,0)),"") | D69: =IFERROR(INDEX(Movimientos!E:E,MATCH(60,Movimientos!$H:$H,0)),"") | E69: =IFERROR(INDEX(Movimientos!F:F,MATCH(60,Movimientos!$H:$H,0)),"") | F69: =IF(A69="","",N(F68)+N(D69)-N(E69)) | G69: =IFERROR(INDEX(Movimientos!G:G,MATCH(60,Movimientos!$H:$H,0)),"")
A70: =IFERROR(INDEX(Movimientos!A:A,MATCH(61,Movimientos!$H:$H,0)),"") | B70: =IFERROR(INDEX(Movimientos!C:C,MATCH(61,Movimientos!$H:$H,0)),"") | C70: =IFERROR(INDEX(Movimientos!D:D,MATCH(61,Movimientos!$H:$H,0)),"") | D70: =IFERROR(INDEX(Movimientos!E:E,MATCH(61,Movimientos!$H:$H,0)),"") | E70: =IFERROR(INDEX(Movimientos!F:F,MATCH(61,Movimientos!$H:$H,0)),"") | F70: =IF(A70="","",N(F69)+N(D70)-N(E70)) | G70: =IFERROR(INDEX(Movimientos!G:G,MATCH(61,Movimientos!$H:$H,0)),"")
A71: =IFERROR(INDEX(Movimientos!A:A,MATCH(62,Movimientos!$H:$H,0)),"") | B71: =IFERROR(INDEX(Movimientos!C:C,MATCH(62,Movimientos!$H:$H,0)),"") | C71: =IFERROR(INDEX(Movimientos!D:D,MATCH(62,Movimientos!$H:$H,0)),"") | D71: =IFERROR(INDEX(Movimientos!E:E,MATCH(62,Movimientos!$H:$H,0)),"") | E71: =IFERROR(INDEX(Movimientos!F:F,MATCH(62,Movimientos!$H:$H,0)),"") | F71: =IF(A71="","",N(F70)+N(D71)-N(E71)) | G71: =IFERROR(INDEX(Movimientos!G:G,MATCH(62,Movimientos!$H:$H,0)),"")
A72: =IFERROR(INDEX(Movimientos!A:A,MATCH(63,Movimientos!$H:$H,0)),"") | B72: =IFERROR(INDEX(Movimientos!C:C,MATCH(63,Movimientos!$H:$H,0)),"") | C72: =IFERROR(INDEX(Movimientos!D:D,MATCH(63,Movimientos!$H:$H,0)),"") | D72: =IFERROR(INDEX(Movimientos!E:E,MATCH(63,Movimientos!$H:$H,0)),"") | E72: =IFERROR(INDEX(Movimientos!F:F,MATCH(63,Movimientos!$H:$H,0)),"") | F72: =IF(A72="","",N(F71)+N(D72)-N(E72)) | G72: =IFERROR(INDEX(Movimientos!G:G,MATCH(63,Movimientos!$H:$H,0)),"")
A73: =IFERROR(INDEX(Movimientos!A:A,MATCH(64,Movimientos!$H:$H,0)),"") | B73: =IFERROR(INDEX(Movimientos!C:C,MATCH(64,Movimientos!$H:$H,0)),"") | C73: =IFERROR(INDEX(Movimientos!D:D,MATCH(64,Movimientos!$H:$H,0)),"") | D73: =IFERROR(INDEX(Movimientos!E:E,MATCH(64,Movimientos!$H:$H,0)),"") | E73: =IFERROR(INDEX(Movimientos!F:F,MATCH(64,Movimientos!$H:$H,0)),"") | F73: =IF(A73="","",N(F72)+N(D73)-N(E73)) | G73: =IFERROR(INDEX(Movimientos!G:G,MATCH(64,Movimientos!$H:$H,0)),"")
A74: =IFERROR(INDEX(Movimientos!A:A,MATCH(65,Movimientos!$H:$H,0)),"") | B74: =IFERROR(INDEX(Movimientos!C:C,MATCH(65,Movimientos!$H:$H,0)),"") | C74: =IFERROR(INDEX(Movimientos!D:D,MATCH(65,Movimientos!$H:$H,0)),"") | D74: =IFERROR(INDEX(Movimientos!E:E,MATCH(65,Movimientos!$H:$H,0)),"") | E74: =IFERROR(INDEX(Movimientos!F:F,MATCH(65,Movimientos!$H:$H,0)),"") | F74: =IF(A74="","",N(F73)+N(D74)-N(E74)) | G74: =IFERROR(INDEX(Movimientos!G:G,MATCH(65,Movimientos!$H:$H,0)),"")
A75: =IFERROR(INDEX(Movimientos!A:A,MATCH(66,Movimientos!$H:$H,0)),"") | B75: =IFERROR(INDEX(Movimientos!C:C,MATCH(66,Movimientos!$H:$H,0)),"") | C75: =IFERROR(INDEX(Movimientos!D:D,MATCH(66,Movimientos!$H:$H,0)),"") | D75: =IFERROR(INDEX(Movimientos!E:E,MATCH(66,Movimientos!$H:$H,0)),"") | E75: =IFERROR(INDEX(Movimientos!F:F,MATCH(66,Movimientos!$H:$H,0)),"") | F75: =IF(A75="","",N(F74)+N(D75)-N(E75)) | G75: =IFERROR(INDEX(Movimientos!G:G,MATCH(66,Movimientos!$H:$H,0)),"")
A76: =IFERROR(INDEX(Movimientos!A:A,MATCH(67,Movimientos!$H:$H,0)),"") | B76: =IFERROR(INDEX(Movimientos!C:C,MATCH(67,Movimientos!$H:$H,0)),"") | C76: =IFERROR(INDEX(Movimientos!D:D,MATCH(67,Movimientos!$H:$H,0)),"") | D76: =IFERROR(INDEX(Movimientos!E:E,MATCH(67,Movimientos!$H:$H,0)),"") | E76: =IFERROR(INDEX(Movimientos!F:F,MATCH(67,Movimientos!$H:$H,0)),"") | F76: =IF(A76="","",N(F75)+N(D76)-N(E76)) | G76: =IFERROR(INDEX(Movimientos!G:G,MATCH(67,Movimientos!$H:$H,0)),"")
A77: =IFERROR(INDEX(Movimientos!A:A,MATCH(68,Movimientos!$H:$H,0)),"") | B77: =IFERROR(INDEX(Movimientos!C:C,MATCH(68,Movimientos!$H:$H,0)),"") | C77: =IFERROR(INDEX(Movimientos!D:D,MATCH(68,Movimientos!$H:$H,0)),"") | D77: =IFERROR(INDEX(Movimientos!E:E,MATCH(68,Movimientos!$H:$H,0)),"") | E77: =IFERROR(INDEX(Movimientos!F:F,MATCH(68,Movimientos!$H:$H,0)),"") | F77: =IF(A77="","",N(F76)+N(D77)-N(E77)) | G77: =IFERROR(INDEX(Movimientos!G:G,MATCH(68,Movimientos!$H:$H,0)),"")
A78: =IFERROR(INDEX(Movimientos!A:A,MATCH(69,Movimientos!$H:$H,0)),"") | B78: =IFERROR(INDEX(Movimientos!C:C,MATCH(69,Movimientos!$H:$H,0)),"") | C78: =IFERROR(INDEX(Movimientos!D:D,MATCH(69,Movimientos!$H:$H,0)),"") | D78: =IFERROR(INDEX(Movimientos!E:E,MATCH(69,Movimientos!$H:$H,0)),"") | E78: =IFERROR(INDEX(Movimientos!F:F,MATCH(69,Movimientos!$H:$H,0)),"") | F78: =IF(A78="","",N(F77)+N(D78)-N(E78)) | G78: =IFERROR(INDEX(Movimientos!G:G,MATCH(69,Movimientos!$H:$H,0)),"")
A79: =IFERROR(INDEX(Movimientos!A:A,MATCH(70,Movimientos!$H:$H,0)),"") | B79: =IFERROR(INDEX(Movimientos!C:C,MATCH(70,Movimientos!$H:$H,0)),"") | C79: =IFERROR(INDEX(Movimientos!D:D,MATCH(70,Movimientos!$H:$H,0)),"") | D79: =IFERROR(INDEX(Movimientos!E:E,MATCH(70,Movimientos!$H:$H,0)),"") | E79: =IFERROR(INDEX(Movimientos!F:F,MATCH(70,Movimientos!$H:$H,0)),"") | F79: =IF(A79="","",N(F78)+N(D79)-N(E79)) | G79: =IFERROR(INDEX(Movimientos!G:G,MATCH(70,Movimientos!$H:$H,0)),"")
A80: =IFERROR(INDEX(Movimientos!A:A,MATCH(71,Movimientos!$H:$H,0)),"") | B80: =IFERROR(INDEX(Movimientos!C:C,MATCH(71,Movimientos!$H:$H,0)),"") | C80: =IFERROR(INDEX(Movimientos!D:D,MATCH(71,Movimientos!$H:$H,0)),"") | D80: =IFERROR(INDEX(Movimientos!E:E,MATCH(71,Movimientos!$H:$H,0)),"") | E80: =IFERROR(INDEX(Movimientos!F:F,MATCH(71,Movimientos!$H:$H,0)),"") | F80: =IF(A80="","",N(F79)+N(D80)-N(E80)) | G80: =IFERROR(INDEX(Movimientos!G:G,MATCH(71,Movimientos!$H:$H,0)),"")
A81: =IFERROR(INDEX(Movimientos!A:A,MATCH(72,Movimientos!$H:$H,0)),"") | B81: =IFERROR(INDEX(Movimientos!C:C,MATCH(72,Movimientos!$H:$H,0)),"") | C81: =IFERROR(INDEX(Movimientos!D:D,MATCH(72,Movimientos!$H:$H,0)),"") | D81: =IFERROR(INDEX(Movimientos!E:E,MATCH(72,Movimientos!$H:$H,0)),"") | E81: =IFERROR(INDEX(Movimientos!F:F,MATCH(72,Movimientos!$H:$H,0)),"") | F81: =IF(A81="","",N(F80)+N(D81)-N(E81)) | G81: =IFERROR(INDEX(Movimientos!G:G,MATCH(72,Movimientos!$H:$H,0)),"")
A82: =IFERROR(INDEX(Movimientos!A:A,MATCH(73,Movimientos!$H:$H,0)),"") | B82: =IFERROR(INDEX(Movimientos!C:C,MATCH(73,Movimientos!$H:$H,0)),"") | C82: =IFERROR(INDEX(Movimientos!D:D,MATCH(73,Movimientos!$H:$H,0)),"") | D82: =IFERROR(INDEX(Movimientos!E:E,MATCH(73,Movimientos!$H:$H,0)),"") | E82: =IFERROR(INDEX(Movimientos!F:F,MATCH(73,Movimientos!$H:$H,0)),"") | F82: =IF(A82="","",N(F81)+N(D82)-N(E82)) | G82: =IFERROR(INDEX(Movimientos!G:G,MATCH(73,Movimientos!$H:$H,0)),"")
A83: =IFERROR(INDEX(Movimientos!A:A,MATCH(74,Movimientos!$H:$H,0)),"") | B83: =IFERROR(INDEX(Movimientos!C:C,MATCH(74,Movimientos!$H:$H,0)),"") | C83: =IFERROR(INDEX(Movimientos!D:D,MATCH(74,Movimientos!$H:$H,0)),"") | D83: =IFERROR(INDEX(Movimientos!E:E,MATCH(74,Movimientos!$H:$H,0)),"") | E83: =IFERROR(INDEX(Movimientos!F:F,MATCH(74,Movimientos!$H:$H,0)),"") | F83: =IF(A83="","",N(F82)+N(D83)-N(E83)) | G83: =IFERROR(INDEX(Movimientos!G:G,MATCH(74,Movimientos!$H:$H,0)),"")
A84: =IFERROR(INDEX(Movimientos!A:A,MATCH(75,Movimientos!$H:$H,0)),"") | B84: =IFERROR(INDEX(Movimientos!C:C,MATCH(75,Movimientos!$H:$H,0)),"") | C84: =IFERROR(INDEX(Movimientos!D:D,MATCH(75,Movimientos!$H:$H,0)),"") | D84: =IFERROR(INDEX(Movimientos!E:E,MATCH(75,Movimientos!$H:$H,0)),"") | E84: =IFERROR(INDEX(Movimientos!F:F,MATCH(75,Movimientos!$H:$H,0)),"") | F84: =IF(A84="","",N(F83)+N(D84)-N(E84)) | G84: =IFERROR(INDEX(Movimientos!G:G,MATCH(75,Movimientos!$H:$H,0)),"")
A85: =IFERROR(INDEX(Movimientos!A:A,MATCH(76,Movimientos!$H:$H,0)),"") | B85: =IFERROR(INDEX(Movimientos!C:C,MATCH(76,Movimientos!$H:$H,0)),"") | C85: =IFERROR(INDEX(Movimientos!D:D,MATCH(76,Movimientos!$H:$H,0)),"") | D85: =IFERROR(INDEX(Movimientos!E:E,MATCH(76,Movimientos!$H:$H,0)),"") | E85: =IFERROR(INDEX(Movimientos!F:F,MATCH(76,Movimientos!$H:$H,0)),"") | F85: =IF(A85="","",N(F84)+N(D85)-N(E85)) | G85: =IFERROR(INDEX(Movimientos!G:G,MATCH(76,Movimientos!$H:$H,0)),"")
A86: =IFERROR(INDEX(Movimientos!A:A,MATCH(77,Movimientos!$H:$H,0)),"") | B86: =IFERROR(INDEX(Movimientos!C:C,MATCH(77,Movimientos!$H:$H,0)),"") | C86: =IFERROR(INDEX(Movimientos!D:D,MATCH(77,Movimientos!$H:$H,0)),"") | D86: =IFERROR(INDEX(Movimientos!E:E,MATCH(77,Movimientos!$H:$H,0)),"") | E86: =IFERROR(INDEX(Movimientos!F:F,MATCH(77,Movimientos!$H:$H,0)),"") | F86: =IF(A86="","",N(F85)+N(D86)-N(E86)) | G86: =IFERROR(INDEX(Movimientos!G:G,MATCH(77,Movimientos!$H:$H,0)),"")
A87: =IFERROR(INDEX(Movimientos!A:A,MATCH(78,Movimientos!$H:$H,0)),"") | B87: =IFERROR(INDEX(Movimientos!C:C,MATCH(78,Movimientos!$H:$H,0)),"") | C87: =IFERROR(INDEX(Movimientos!D:D,MATCH(78,Movimientos!$H:$H,0)),"") | D87: =IFERROR(INDEX(Movimientos!E:E,MATCH(78,Movimientos!$H:$H,0)),"") | E87: =IFERROR(INDEX(Movimientos!F:F,MATCH(78,Movimientos!$H:$H,0)),"") | F87: =IF(A87="","",N(F86)+N(D87)-N(E87)) | G87: =IFERROR(INDEX(Movimientos!G:G,MATCH(78,Movimientos!$H:$H,0)),"")
A88: =IFERROR(INDEX(Movimientos!A:A,MATCH(79,Movimientos!$H:$H,0)),"") | B88: =IFERROR(INDEX(Movimientos!C:C,MATCH(79,Movimientos!$H:$H,0)),"") | C88: =IFERROR(INDEX(Movimientos!D:D,MATCH(79,Movimientos!$H:$H,0)),"") | D88: =IFERROR(INDEX(Movimientos!E:E,MATCH(79,Movimientos!$H:$H,0)),"") | E88: =IFERROR(INDEX(Movimientos!F:F,MATCH(79,Movimientos!$H:$H,0)),"") | F88: =IF(A88="","",N(F87)+N(D88)-N(E88)) | G88: =IFERROR(INDEX(Movimientos!G:G,MATCH(79,Movimientos!$H:$H,0)),"")
A89: =IFERROR(INDEX(Movimientos!A:A,MATCH(80,Movimientos!$H:$H,0)),"") | B89: =IFERROR(INDEX(Movimientos!C:C,MATCH(80,Movimientos!$H:$H,0)),"") | C89: =IFERROR(INDEX(Movimientos!D:D,MATCH(80,Movimientos!$H:$H,0)),"") | D89: =IFERROR(INDEX(Movimientos!E:E,MATCH(80,Movimientos!$H:$H,0)),"") | E89: =IFERROR(INDEX(Movimientos!F:F,MATCH(80,Movimientos!$H:$H,0)),"") | F89: =IF(A89="","",N(F88)+N(D89)-N(E89)) | G89: =IFERROR(INDEX(Movimientos!G:G,MATCH(80,Movimientos!$H:$H,0)),"")
A90: =IFERROR(INDEX(Movimientos!A:A,MATCH(81,Movimientos!$H:$H,0)),"") | B90: =IFERROR(INDEX(Movimientos!C:C,MATCH(81,Movimientos!$H:$H,0)),"") | C90: =IFERROR(INDEX(Movimientos!D:D,MATCH(81,Movimientos!$H:$H,0)),"") | D90: =IFERROR(INDEX(Movimientos!E:E,MATCH(81,Movimientos!$H:$H,0)),"") | E90: =IFERROR(INDEX(Movimientos!F:F,MATCH(81,Movimientos!$H:$H,0)),"") | F90: =IF(A90="","",N(F89)+N(D90)-N(E90)) | G90: =IFERROR(INDEX(Movimientos!G:G,MATCH(81,Movimientos!$H:$H,0)),"")
A91: =IFERROR(INDEX(Movimientos!A:A,MATCH(82,Movimientos!$H:$H,0)),"") | B91: =IFERROR(INDEX(Movimientos!C:C,MATCH(82,Movimientos!$H:$H,0)),"") | C91: =IFERROR(INDEX(Movimientos!D:D,MATCH(82,Movimientos!$H:$H,0)),"") | D91: =IFERROR(INDEX(Movimientos!E:E,MATCH(82,Movimientos!$H:$H,0)),"") | E91: =IFERROR(INDEX(Movimientos!F:F,MATCH(82,Movimientos!$H:$H,0)),"") | F91: =IF(A91="","",N(F90)+N(D91)-N(E91)) | G91: =IFERROR(INDEX(Movimientos!G:G,MATCH(82,Movimientos!$H:$H,0)),"")
A92: =IFERROR(INDEX(Movimientos!A:A,MATCH(83,Movimientos!$H:$H,0)),"") | B92: =IFERROR(INDEX(Movimientos!C:C,MATCH(83,Movimientos!$H:$H,0)),"") | C92: =IFERROR(INDEX(Movimientos!D:D,MATCH(83,Movimientos!$H:$H,0)),"") | D92: =IFERROR(INDEX(Movimientos!E:E,MATCH(83,Movimientos!$H:$H,0)),"") | E92: =IFERROR(INDEX(Movimientos!F:F,MATCH(83,Movimientos!$H:$H,0)),"") | F92: =IF(A92="","",N(F91)+N(D92)-N(E92)) | G92: =IFERROR(INDEX(Movimientos!G:G,MATCH(83,Movimientos!$H:$H,0)),"")
A93: =IFERROR(INDEX(Movimientos!A:A,MATCH(84,Movimientos!$H:$H,0)),"") | B93: =IFERROR(INDEX(Movimientos!C:C,MATCH(84,Movimientos!$H:$H,0)),"") | C93: =IFERROR(INDEX(Movimientos!D:D,MATCH(84,Movimientos!$H:$H,0)),"") | D93: =IFERROR(INDEX(Movimientos!E:E,MATCH(84,Movimientos!$H:$H,0)),"") | E93: =IFERROR(INDEX(Movimientos!F:F,MATCH(84,Movimientos!$H:$H,0)),"") | F93: =IF(A93="","",N(F92)+N(D93)-N(E93)) | G93: =IFERROR(INDEX(Movimientos!G:G,MATCH(84,Movimientos!$H:$H,0)),"")
A94: =IFERROR(INDEX(Movimientos!A:A,MATCH(85,Movimientos!$H:$H,0)),"") | B94: =IFERROR(INDEX(Movimientos!C:C,MATCH(85,Movimientos!$H:$H,0)),"") | C94: =IFERROR(INDEX(Movimientos!D:D,MATCH(85,Movimientos!$H:$H,0)),"") | D94: =IFERROR(INDEX(Movimientos!E:E,MATCH(85,Movimientos!$H:$H,0)),"") | E94: =IFERROR(INDEX(Movimientos!F:F,MATCH(85,Movimientos!$H:$H,0)),"") | F94: =IF(A94="","",N(F93)+N(D94)-N(E94)) | G94: =IFERROR(INDEX(Movimientos!G:G,MATCH(85,Movimientos!$H:$H,0)),"")
A95: =IFERROR(INDEX(Movimientos!A:A,MATCH(86,Movimientos!$H:$H,0)),"") | B95: =IFERROR(INDEX(Movimientos!C:C,MATCH(86,Movimientos!$H:$H,0)),"") | C95: =IFERROR(INDEX(Movimientos!D:D,MATCH(86,Movimientos!$H:$H,0)),"") | D95: =IFERROR(INDEX(Movimientos!E:E,MATCH(86,Movimientos!$H:$H,0)),"") | E95: =IFERROR(INDEX(Movimientos!F:F,MATCH(86,Movimientos!$H:$H,0)),"") | F95: =IF(A95="","",N(F94)+N(D95)-N(E95)) | G95: =IFERROR(INDEX(Movimientos!G:G,MATCH(86,Movimientos!$H:$H,0)),"")
A96: =IFERROR(INDEX(Movimientos!A:A,MATCH(87,Movimientos!$H:$H,0)),"") | B96: =IFERROR(INDEX(Movimientos!C:C,MATCH(87,Movimientos!$H:$H,0)),"") | C96: =IFERROR(INDEX(Movimientos!D:D,MATCH(87,Movimientos!$H:$H,0)),"") | D96: =IFERROR(INDEX(Movimientos!E:E,MATCH(87,Movimientos!$H:$H,0)),"") | E96: =IFERROR(INDEX(Movimientos!F:F,MATCH(87,Movimientos!$H:$H,0)),"") | F96: =IF(A96="","",N(F95)+N(D96)-N(E96)) | G96: =IFERROR(INDEX(Movimientos!G:G,MATCH(87,Movimientos!$H:$H,0)),"")
A97: =IFERROR(INDEX(Movimientos!A:A,MATCH(88,Movimientos!$H:$H,0)),"") | B97: =IFERROR(INDEX(Movimientos!C:C,MATCH(88,Movimientos!$H:$H,0)),"") | C97: =IFERROR(INDEX(Movimientos!D:D,MATCH(88,Movimientos!$H:$H,0)),"") | D97: =IFERROR(INDEX(Movimientos!E:E,MATCH(88,Movimientos!$H:$H,0)),"") | E97: =IFERROR(INDEX(Movimientos!F:F,MATCH(88,Movimientos!$H:$H,0)),"") | F97: =IF(A97="","",N(F96)+N(D97)-N(E97)) | G97: =IFERROR(INDEX(Movimientos!G:G,MATCH(88,Movimientos!$H:$H,0)),"")
A98: =IFERROR(INDEX(Movimientos!A:A,MATCH(89,Movimientos!$H:$H,0)),"") | B98: =IFERROR(INDEX(Movimientos!C:C,MATCH(89,Movimientos!$H:$H,0)),"") | C98: =IFERROR(INDEX(Movimientos!D:D,MATCH(89,Movimientos!$H:$H,0)),"") | D98: =IFERROR(INDEX(Movimientos!E:E,MATCH(89,Movimientos!$H:$H,0)),"") | E98: =IFERROR(INDEX(Movimientos!F:F,MATCH(89,Movimientos!$H:$H,0)),"") | F98: =IF(A98="","",N(F97)+N(D98)-N(E98)) | G98: =IFERROR(INDEX(Movimientos!G:G,MATCH(89,Movimientos!$H:$H,0)),"")
A99: =IFERROR(INDEX(Movimientos!A:A,MATCH(90,Movimientos!$H:$H,0)),"") | B99: =IFERROR(INDEX(Movimientos!C:C,MATCH(90,Movimientos!$H:$H,0)),"") | C99: =IFERROR(INDEX(Movimientos!D:D,MATCH(90,Movimientos!$H:$H,0)),"") | D99: =IFERROR(INDEX(Movimientos!E:E,MATCH(90,Movimientos!$H:$H,0)),"") | E99: =IFERROR(INDEX(Movimientos!F:F,MATCH(90,Movimientos!$H:$H,0)),"") | F99: =IF(A99="","",N(F98)+N(D99)-N(E99)) | G99: =IFERROR(INDEX(Movimientos!G:G,MATCH(90,Movimientos!$H:$H,0)),"")
A100: =IFERROR(INDEX(Movimientos!A:A,MATCH(91,Movimientos!$H:$H,0)),"") | B100: =IFERROR(INDEX(Movimientos!C:C,MATCH(91,Movimientos!$H:$H,0)),"") | C100: =IFERROR(INDEX(Movimientos!D:D,MATCH(91,Movimientos!$H:$H,0)),"") | D100: =IFERROR(INDEX(Movimientos!E:E,MATCH(91,Movimientos!$H:$H,0)),"") | E100: =IFERROR(INDEX(Movimientos!F:F,MATCH(91,Movimientos!$H:$H,0)),"") | F100: =IF(A100="","",N(F99)+N(D100)-N(E100)) | G100: =IFERROR(INDEX(Movimientos!G:G,MATCH(91,Movimientos!$H:$H,0)),"")
A101: =IFERROR(INDEX(Movimientos!A:A,MATCH(92,Movimientos!$H:$H,0)),"") | B101: =IFERROR(INDEX(Movimientos!C:C,MATCH(92,Movimientos!$H:$H,0)),"") | C101: =IFERROR(INDEX(Movimientos!D:D,MATCH(92,Movimientos!$H:$H,0)),"") | D101: =IFERROR(INDEX(Movimientos!E:E,MATCH(92,Movimientos!$H:$H,0)),"") | E101: =IFERROR(INDEX(Movimientos!F:F,MATCH(92,Movimientos!$H:$H,0)),"") | F101: =IF(A101="","",N(F100)+N(D101)-N(E101)) | G101: =IFERROR(INDEX(Movimientos!G:G,MATCH(92,Movimientos!$H:$H,0)),"")
A102: =IFERROR(INDEX(Movimientos!A:A,MATCH(93,Movimientos!$H:$H,0)),"") | B102: =IFERROR(INDEX(Movimientos!C:C,MATCH(93,Movimientos!$H:$H,0)),"") | C102: =IFERROR(INDEX(Movimientos!D:D,MATCH(93,Movimientos!$H:$H,0)),"") | D102: =IFERROR(INDEX(Movimientos!E:E,MATCH(93,Movimientos!$H:$H,0)),"") | E102: =IFERROR(INDEX(Movimientos!F:F,MATCH(93,Movimientos!$H:$H,0)),"") | F102: =IF(A102="","",N(F101)+N(D102)-N(E102)) | G102: =IFERROR(INDEX(Movimientos!G:G,MATCH(93,Movimientos!$H:$H,0)),"")
...

Sheet Movimientos
A1: Fecha | B1: Unidad | C1: Concepto | D1: Periodo | E1: Cargo | F1: Abono | G1: Referencia o folio | H1: n
A2: 46235 | B2: B-302 | C2: Cuota ordinaria | D2: agosto 2026 | E2: 1450 | H2: =IF(AND(B2<>"",B2='Estado de cuenta'!$B$7),COUNTIF($B$2:B2,'Estado de cuenta'!$B$7),"")
A3: 46235 | B3: B-302 | C3: Cuota extraordinaria | D3: impermeabilización 1/3 | E3: 1000 | H3: =IF(AND(B3<>"",B3='Estado de cuenta'!$B$7),COUNTIF($B$2:B3,'Estado de cuenta'!$B$7),"")
A4: 46240 | B4: B-302 | C4: Pago | D4: agosto 2026 | F4: 1450 | G4: F-0812 | H4: =IF(AND(B4<>"",B4='Estado de cuenta'!$B$7),COUNTIF($B$2:B4,'Estado de cuenta'!$B$7),"")
A5: 46266 | B5: B-302 | C5: Cuota ordinaria | D5: septiembre 2026 | E5: 1450 | H5: =IF(AND(B5<>"",B5='Estado de cuenta'!$B$7),COUNTIF($B$2:B5,'Estado de cuenta'!$B$7),"")
A6: 46266 | B6: B-302 | C6: Cuota extraordinaria | D6: impermeabilización 2/3 | E6: 1000 | H6: =IF(AND(B6<>"",B6='Estado de cuenta'!$B$7),COUNTIF($B$2:B6,'Estado de cuenta'!$B$7),"")
A7: 46266 | B7: A-101 | C7: Cuota ordinaria | D7: septiembre 2026 | E7: 1200 | H7: =IF(AND(B7<>"",B7='Estado de cuenta'!$B$7),COUNTIF($B$2:B7,'Estado de cuenta'!$B$7),"")
A8: 46268 | B8: A-101 | C8: Pago | D8: septiembre 2026 | F8: 1200 | G8: F-0901 | H8: =IF(AND(B8<>"",B8='Estado de cuenta'!$B$7),COUNTIF($B$2:B8,'Estado de cuenta'!$B$7),"")
A9: 46283 | B9: B-302 | C9: Recargo aprobado | D9: agosto 2026 | E9: 145 | G9: acta 15-ene-2026 | H9: =IF(AND(B9<>"",B9='Estado de cuenta'!$B$7),COUNTIF($B$2:B9,'Estado de cuenta'!$B$7),"")
A10: 46296 | B10: B-302 | C10: Cuota ordinaria | D10: octubre 2026 | E10: 1450 | H10: =IF(AND(B10<>"",B10='Estado de cuenta'!$B$7),COUNTIF($B$2:B10,'Estado de cuenta'!$B$7),"")
A11: 46296 | B11: B-302 | C11: Cuota extraordinaria | D11: impermeabilización 3/3 | E11: 1000 | H11: =IF(AND(B11<>"",B11='Estado de cuenta'!$B$7),COUNTIF($B$2:B11,'Estado de cuenta'!$B$7),"")
A12: 46300 | B12: B-302 | C12: Pago | D12: septiembre 2026 | F12: 2000 | G12: F-1005 | H12: =IF(AND(B12<>"",B12='Estado de cuenta'!$B$7),COUNTIF($B$2:B12,'Estado de cuenta'!$B$7),"")
H13: =IF(AND(B13<>"",B13='Estado de cuenta'!$B$7),COUNTIF($B$2:B13,'Estado de cuenta'!$B$7),"")
H14: =IF(AND(B14<>"",B14='Estado de cuenta'!$B$7),COUNTIF($B$2:B14,'Estado de cuenta'!$B$7),"")
H15: =IF(AND(B15<>"",B15='Estado de cuenta'!$B$7),COUNTIF($B$2:B15,'Estado de cuenta'!$B$7),"")
H16: =IF(AND(B16<>"",B16='Estado de cuenta'!$B$7),COUNTIF($B$2:B16,'Estado de cuenta'!$B$7),"")
H17: =IF(AND(B17<>"",B17='Estado de cuenta'!$B$7),COUNTIF($B$2:B17,'Estado de cuenta'!$B$7),"")
H18: =IF(AND(B18<>"",B18='Estado de cuenta'!$B$7),COUNTIF($B$2:B18,'Estado de cuenta'!$B$7),"")
H19: =IF(AND(B19<>"",B19='Estado de cuenta'!$B$7),COUNTIF($B$2:B19,'Estado de cuenta'!$B$7),"")
H20: =IF(AND(B20<>"",B20='Estado de cuenta'!$B$7),COUNTIF($B$2:B20,'Estado de cuenta'!$B$7),"")
H21: =IF(AND(B21<>"",B21='Estado de cuenta'!$B$7),COUNTIF($B$2:B21,'Estado de cuenta'!$B$7),"")
H22: =IF(AND(B22<>"",B22='Estado de cuenta'!$B$7),COUNTIF($B$2:B22,'Estado de cuenta'!$B$7),"")
H23: =IF(AND(B23<>"",B23='Estado de cuenta'!$B$7),COUNTIF($B$2:B23,'Estado de cuenta'!$B$7),"")
H24: =IF(AND(B24<>"",B24='Estado de cuenta'!$B$7),COUNTIF($B$2:B24,'Estado de cuenta'!$B$7),"")
... H401: =IF(AND(B401<>"",B401='Estado de cuenta'!$B$7),COUNTIF($B$2:B401,'Estado de cuenta'!$B$7),"")

Sheet Cómo se usa
A1: Cómo se usa esta hoja
A3: El estado de cuenta de una unidad es la lista de lo que se le cargó y lo que pagó, con el saldo
A4: después de cada movimiento. Es lo que el propietario pide antes de pagar un atraso, lo que
A5: acompaña a la carta de cobro y lo que se revisa antes de firmar una carta de no adeudo.
A7: Movimientos: un renglón por cargo o por pago, de todas las unidades, en el orden en que pasan.
A8: La cuota ordinaria, la extraordinaria y el recargo van en renglones separados aunque se
A9: carguen el mismo día: la asamblea los aprueba por separado y así se le explican al condómino.
A11: Estado de cuenta: escribe la unidad en la celda gris y los movimientos de esa unidad salen
A12: solos, con el saldo corrido. Se imprime o se guarda en PDF y se manda sólo a esa unidad.
A14: El recargo va sólo si el reglamento o la asamblea lo aprobaron; anota en la referencia el acta.
A15: Un pago que no cubre el mes completo se anota tal cual: el saldo lo refleja solo.
A17: El estado de cuenta es de la unidad y se manda a su propietario. Nunca se publica la lista de
... A23: Makatea recuerda, registra y comunica. No mueve dinero.
