Workbook

Sheet Integrantes
A1: nombre | B1: telefono | C1: email | D1: saldo | E1: estatus | F1: turno | G1: fecha_que_cobra | H1: recibe | I1: rondas_vencidas | J1: puesto | K1: ronda_1 | L1: ronda_2 | M1: ronda_3 | N1: ronda_4 | O1: ronda_5 | P1: ronda_6 | Q1: ronda_7 | R1: ronda_8 | S1: ronda_9 | T1: ronda_10 | U1: ronda_11 | V1: ronda_12 | W1: ronda_13 | X1: ronda_14 | Y1: ronda_15 | Z1: ronda_16 | AA1: ronda_17 | AB1: ronda_18 | AC1: ronda_19 | AD1: ronda_20
A2: Sandra Gil | B2: +52 55 0000 0120 | D2: =IF(A2="","",MAX(0,Datos!$B$3*I2-J2)) | E2: activo | F2: 1 | G2: =IF(F2="","",Datos!$B$1+(F2-1)*IF(Datos!$B$2="quincenal",15,7)) | H2: =IF(F2="","",Datos!$B$3*Datos!$B$4) | I2: =IF(A2="","",Datos!$B$6) | J2: =IF(A2="","",SUM(K2:AD2)) | K2: 500 | L2: 500 | M2: 500 | N2: 500 | O2: 500 | P2: 500 | Q2: 500
A3: Pedro Mora | B3: +52 55 0000 0121 | D3: =IF(A3="","",MAX(0,Datos!$B$3*I3-J3)) | E3: activo | F3: 2 | G3: =IF(F3="","",Datos!$B$1+(F3-1)*IF(Datos!$B$2="quincenal",15,7)) | H3: =IF(F3="","",Datos!$B$3*Datos!$B$4) | I3: =IF(A3="","",Datos!$B$6) | J3: =IF(A3="","",SUM(K3:AD3)) | K3: 500 | L3: 500 | M3: 500 | N3: 500 | O3: 500 | P3: 500 | Q3: 500
A4: Elena Cruz | B4: +52 55 0000 0122 | D4: =IF(A4="","",MAX(0,Datos!$B$3*I4-J4)) | E4: activo | F4: 3 | G4: =IF(F4="","",Datos!$B$1+(F4-1)*IF(Datos!$B$2="quincenal",15,7)) | H4: =IF(F4="","",Datos!$B$3*Datos!$B$4) | I4: =IF(A4="","",Datos!$B$6) | J4: =IF(A4="","",SUM(K4:AD4)) | K4: 500 | L4: 500 | M4: 500 | N4: 500 | O4: 500 | P4: 500 | Q4: 500
A5: Tomás Rangel | B5: +52 55 0000 0123 | D5: =IF(A5="","",MAX(0,Datos!$B$3*I5-J5)) | E5: activo | F5: 4 | G5: =IF(F5="","",Datos!$B$1+(F5-1)*IF(Datos!$B$2="quincenal",15,7)) | H5: =IF(F5="","",Datos!$B$3*Datos!$B$4) | I5: =IF(A5="","",Datos!$B$6) | J5: =IF(A5="","",SUM(K5:AD5)) | K5: 500 | L5: 500 | M5: 500 | N5: 500 | O5: 500 | P5: 500 | Q5: 500
A6: Norma Vela | B6: +52 55 0000 0124 | D6: =IF(A6="","",MAX(0,Datos!$B$3*I6-J6)) | E6: activo | F6: 5 | G6: =IF(F6="","",Datos!$B$1+(F6-1)*IF(Datos!$B$2="quincenal",15,7)) | H6: =IF(F6="","",Datos!$B$3*Datos!$B$4) | I6: =IF(A6="","",Datos!$B$6) | J6: =IF(A6="","",SUM(K6:AD6)) | K6: 500 | L6: 500 | M6: 500 | N6: 500 | O6: 500 | P6: 500 | Q6: 500
A7: Julio Soto | B7: +52 55 0000 0125 | D7: =IF(A7="","",MAX(0,Datos!$B$3*I7-J7)) | E7: activo | F7: 6 | G7: =IF(F7="","",Datos!$B$1+(F7-1)*IF(Datos!$B$2="quincenal",15,7)) | H7: =IF(F7="","",Datos!$B$3*Datos!$B$4) | I7: =IF(A7="","",Datos!$B$6) | J7: =IF(A7="","",SUM(K7:AD7)) | K7: 500 | L7: 500 | M7: 500 | N7: 500 | O7: 500 | P7: 500
A8: Irma Paz | B8: +52 55 0000 0126 | D8: =IF(A8="","",MAX(0,Datos!$B$3*I8-J8)) | E8: activo | F8: 7 | G8: =IF(F8="","",Datos!$B$1+(F8-1)*IF(Datos!$B$2="quincenal",15,7)) | H8: =IF(F8="","",Datos!$B$3*Datos!$B$4) | I8: =IF(A8="","",Datos!$B$6) | J8: =IF(A8="","",SUM(K8:AD8)) | K8: 500 | L8: 500 | M8: 500 | N8: 500 | O8: 500 | P8: 500 | Q8: 500
A9: Beto Lara | B9: +52 55 0000 0127 | D9: =IF(A9="","",MAX(0,Datos!$B$3*I9-J9)) | E9: activo | F9: 8 | G9: =IF(F9="","",Datos!$B$1+(F9-1)*IF(Datos!$B$2="quincenal",15,7)) | H9: =IF(F9="","",Datos!$B$3*Datos!$B$4) | I9: =IF(A9="","",Datos!$B$6) | J9: =IF(A9="","",SUM(K9:AD9)) | K9: 500 | L9: 500 | M9: 500 | N9: 500 | O9: 500
D10: =IF(A10="","",MAX(0,Datos!$B$3*I10-J10)) | G10: =IF(F10="","",Datos!$B$1+(F10-1)*IF(Datos!$B$2="quincenal",15,7)) | H10: =IF(F10="","",Datos!$B$3*Datos!$B$4) | I10: =IF(A10="","",Datos!$B$6) | J10: =IF(A10="","",SUM(K10:AD10))
D11: =IF(A11="","",MAX(0,Datos!$B$3*I11-J11)) | G11: =IF(F11="","",Datos!$B$1+(F11-1)*IF(Datos!$B$2="quincenal",15,7)) | H11: =IF(F11="","",Datos!$B$3*Datos!$B$4) | I11: =IF(A11="","",Datos!$B$6) | J11: =IF(A11="","",SUM(K11:AD11))
D12: =IF(A12="","",MAX(0,Datos!$B$3*I12-J12)) | G12: =IF(F12="","",Datos!$B$1+(F12-1)*IF(Datos!$B$2="quincenal",15,7)) | H12: =IF(F12="","",Datos!$B$3*Datos!$B$4) | I12: =IF(A12="","",Datos!$B$6) | J12: =IF(A12="","",SUM(K12:AD12))
D13: =IF(A13="","",MAX(0,Datos!$B$3*I13-J13)) | G13: =IF(F13="","",Datos!$B$1+(F13-1)*IF(Datos!$B$2="quincenal",15,7)) | H13: =IF(F13="","",Datos!$B$3*Datos!$B$4) | I13: =IF(A13="","",Datos!$B$6) | J13: =IF(A13="","",SUM(K13:AD13))
D14: =IF(A14="","",MAX(0,Datos!$B$3*I14-J14)) | G14: =IF(F14="","",Datos!$B$1+(F14-1)*IF(Datos!$B$2="quincenal",15,7)) | H14: =IF(F14="","",Datos!$B$3*Datos!$B$4) | I14: =IF(A14="","",Datos!$B$6) | J14: =IF(A14="","",SUM(K14:AD14))
D15: =IF(A15="","",MAX(0,Datos!$B$3*I15-J15)) | G15: =IF(F15="","",Datos!$B$1+(F15-1)*IF(Datos!$B$2="quincenal",15,7)) | H15: =IF(F15="","",Datos!$B$3*Datos!$B$4) | I15: =IF(A15="","",Datos!$B$6) | J15: =IF(A15="","",SUM(K15:AD15))
D16: =IF(A16="","",MAX(0,Datos!$B$3*I16-J16)) | G16: =IF(F16="","",Datos!$B$1+(F16-1)*IF(Datos!$B$2="quincenal",15,7)) | H16: =IF(F16="","",Datos!$B$3*Datos!$B$4) | I16: =IF(A16="","",Datos!$B$6) | J16: =IF(A16="","",SUM(K16:AD16))
D17: =IF(A17="","",MAX(0,Datos!$B$3*I17-J17)) | G17: =IF(F17="","",Datos!$B$1+(F17-1)*IF(Datos!$B$2="quincenal",15,7)) | H17: =IF(F17="","",Datos!$B$3*Datos!$B$4) | I17: =IF(A17="","",Datos!$B$6) | J17: =IF(A17="","",SUM(K17:AD17))
D18: =IF(A18="","",MAX(0,Datos!$B$3*I18-J18)) | G18: =IF(F18="","",Datos!$B$1+(F18-1)*IF(Datos!$B$2="quincenal",15,7)) | H18: =IF(F18="","",Datos!$B$3*Datos!$B$4) | I18: =IF(A18="","",Datos!$B$6) | J18: =IF(A18="","",SUM(K18:AD18))
D19: =IF(A19="","",MAX(0,Datos!$B$3*I19-J19)) | G19: =IF(F19="","",Datos!$B$1+(F19-1)*IF(Datos!$B$2="quincenal",15,7)) | H19: =IF(F19="","",Datos!$B$3*Datos!$B$4) | I19: =IF(A19="","",Datos!$B$6) | J19: =IF(A19="","",SUM(K19:AD19))
D20: =IF(A20="","",MAX(0,Datos!$B$3*I20-J20)) | G20: =IF(F20="","",Datos!$B$1+(F20-1)*IF(Datos!$B$2="quincenal",15,7)) | H20: =IF(F20="","",Datos!$B$3*Datos!$B$4) | I20: =IF(A20="","",Datos!$B$6) | J20: =IF(A20="","",SUM(K20:AD20))
D21: =IF(A21="","",MAX(0,Datos!$B$3*I21-J21)) | G21: =IF(F21="","",Datos!$B$1+(F21-1)*IF(Datos!$B$2="quincenal",15,7)) | H21: =IF(F21="","",Datos!$B$3*Datos!$B$4) | I21: =IF(A21="","",Datos!$B$6) | J21: =IF(A21="","",SUM(K21:AD21))
... D41: =IF(A41="","",MAX(0,Datos!$B$3*I41-J41)) | G41: =IF(F41="","",Datos!$B$1+(F41-1)*IF(Datos!$B$2="quincenal",15,7)) | H41: =IF(F41="","",Datos!$B$3*Datos!$B$4) | I41: =IF(A41="","",Datos!$B$6) | J41: =IF(A41="","",SUM(K41:AD41))
A43: Juntado en la ronda | D43: =SUM(D2:D41) | J43: =SUM(J2:J41) | K43: =SUM(K2:K41) | L43: =SUM(L2:L41) | M43: =SUM(M2:M41) | N43: =SUM(N2:N41) | O43: =SUM(O2:O41) | P43: =SUM(P2:P41) | Q43: =SUM(Q2:Q41) | ... AD43: =SUM(AD2:AD41)

Sheet Datos
A1: Fecha de la primera ronda | B1: 46267 | D1: Ronda | E1: Fecha | F1: Le toca cobrar | G1: Recibe
A2: Frecuencia | B2: semanal | D2: =IF(1>$B$4,"",1) | E2: =IF(D2="","",$B$1+(D2-1)*IF($B$2="quincenal",15,7)) | F2: =IF(D2="","",IFERROR(INDEX(Integrantes!$A$2:$A$41,MATCH(D2,Integrantes!$F$2:$F$41,0)),"sin turno")) | G2: =IF(D2="","",$B$3*$B$4)
A3: Aportación por ronda | B3: 500 | D3: =IF(2>$B$4,"",2) | E3: =IF(D3="","",$B$1+(D3-1)*IF($B$2="quincenal",15,7)) | F3: =IF(D3="","",IFERROR(INDEX(Integrantes!$A$2:$A$41,MATCH(D3,Integrantes!$F$2:$F$41,0)),"sin turno")) | G3: =IF(D3="","",$B$3*$B$4)
A4: Integrantes | B4: =COUNTA(Integrantes!A2:A41) | D4: =IF(3>$B$4,"",3) | E4: =IF(D4="","",$B$1+(D4-1)*IF($B$2="quincenal",15,7)) | F4: =IF(D4="","",IFERROR(INDEX(Integrantes!$A$2:$A$41,MATCH(D4,Integrantes!$F$2:$F$41,0)),"sin turno")) | G4: =IF(D4="","",$B$3*$B$4)
A5: Fecha de corte | B5: =TODAY() | D5: =IF(4>$B$4,"",4) | E5: =IF(D5="","",$B$1+(D5-1)*IF($B$2="quincenal",15,7)) | F5: =IF(D5="","",IFERROR(INDEX(Integrantes!$A$2:$A$41,MATCH(D5,Integrantes!$F$2:$F$41,0)),"sin turno")) | G5: =IF(D5="","",$B$3*$B$4)
A6: Rondas que ya tocaron | B6: =IF(B5<B1,0,MIN(B4,INT((B5-B1)/IF(B2="quincenal",15,7))+1)) | D6: =IF(5>$B$4,"",5) | E6: =IF(D6="","",$B$1+(D6-1)*IF($B$2="quincenal",15,7)) | F6: =IF(D6="","",IFERROR(INDEX(Integrantes!$A$2:$A$41,MATCH(D6,Integrantes!$F$2:$F$41,0)),"sin turno")) | G6: =IF(D6="","",$B$3*$B$4)
D7: =IF(6>$B$4,"",6) | E7: =IF(D7="","",$B$1+(D7-1)*IF($B$2="quincenal",15,7)) | F7: =IF(D7="","",IFERROR(INDEX(Integrantes!$A$2:$A$41,MATCH(D7,Integrantes!$F$2:$F$41,0)),"sin turno")) | G7: =IF(D7="","",$B$3*$B$4)
D8: =IF(7>$B$4,"",7) | E8: =IF(D8="","",$B$1+(D8-1)*IF($B$2="quincenal",15,7)) | F8: =IF(D8="","",IFERROR(INDEX(Integrantes!$A$2:$A$41,MATCH(D8,Integrantes!$F$2:$F$41,0)),"sin turno")) | G8: =IF(D8="","",$B$3*$B$4)
D9: =IF(8>$B$4,"",8) | E9: =IF(D9="","",$B$1+(D9-1)*IF($B$2="quincenal",15,7)) | F9: =IF(D9="","",IFERROR(INDEX(Integrantes!$A$2:$A$41,MATCH(D9,Integrantes!$F$2:$F$41,0)),"sin turno")) | G9: =IF(D9="","",$B$3*$B$4)
D10: =IF(9>$B$4,"",9) | E10: =IF(D10="","",$B$1+(D10-1)*IF($B$2="quincenal",15,7)) | F10: =IF(D10="","",IFERROR(INDEX(Integrantes!$A$2:$A$41,MATCH(D10,Integrantes!$F$2:$F$41,0)),"sin turno")) | G10: =IF(D10="","",$B$3*$B$4)
D11: =IF(10>$B$4,"",10) | E11: =IF(D11="","",$B$1+(D11-1)*IF($B$2="quincenal",15,7)) | F11: =IF(D11="","",IFERROR(INDEX(Integrantes!$A$2:$A$41,MATCH(D11,Integrantes!$F$2:$F$41,0)),"sin turno")) | G11: =IF(D11="","",$B$3*$B$4)
D12: =IF(11>$B$4,"",11) | E12: =IF(D12="","",$B$1+(D12-1)*IF($B$2="quincenal",15,7)) | F12: =IF(D12="","",IFERROR(INDEX(Integrantes!$A$2:$A$41,MATCH(D12,Integrantes!$F$2:$F$41,0)),"sin turno")) | G12: =IF(D12="","",$B$3*$B$4)
D13: =IF(12>$B$4,"",12) | E13: =IF(D13="","",$B$1+(D13-1)*IF($B$2="quincenal",15,7)) | F13: =IF(D13="","",IFERROR(INDEX(Integrantes!$A$2:$A$41,MATCH(D13,Integrantes!$F$2:$F$41,0)),"sin turno")) | G13: =IF(D13="","",$B$3*$B$4)
D14: =IF(13>$B$4,"",13) | E14: =IF(D14="","",$B$1+(D14-1)*IF($B$2="quincenal",15,7)) | F14: =IF(D14="","",IFERROR(INDEX(Integrantes!$A$2:$A$41,MATCH(D14,Integrantes!$F$2:$F$41,0)),"sin turno")) | G14: =IF(D14="","",$B$3*$B$4)
D15: =IF(14>$B$4,"",14) | E15: =IF(D15="","",$B$1+(D15-1)*IF($B$2="quincenal",15,7)) | F15: =IF(D15="","",IFERROR(INDEX(Integrantes!$A$2:$A$41,MATCH(D15,Integrantes!$F$2:$F$41,0)),"sin turno")) | G15: =IF(D15="","",$B$3*$B$4)
D16: =IF(15>$B$4,"",15) | E16: =IF(D16="","",$B$1+(D16-1)*IF($B$2="quincenal",15,7)) | F16: =IF(D16="","",IFERROR(INDEX(Integrantes!$A$2:$A$41,MATCH(D16,Integrantes!$F$2:$F$41,0)),"sin turno")) | G16: =IF(D16="","",$B$3*$B$4)
D17: =IF(16>$B$4,"",16) | E17: =IF(D17="","",$B$1+(D17-1)*IF($B$2="quincenal",15,7)) | F17: =IF(D17="","",IFERROR(INDEX(Integrantes!$A$2:$A$41,MATCH(D17,Integrantes!$F$2:$F$41,0)),"sin turno")) | G17: =IF(D17="","",$B$3*$B$4)
D18: =IF(17>$B$4,"",17) | E18: =IF(D18="","",$B$1+(D18-1)*IF($B$2="quincenal",15,7)) | F18: =IF(D18="","",IFERROR(INDEX(Integrantes!$A$2:$A$41,MATCH(D18,Integrantes!$F$2:$F$41,0)),"sin turno")) | G18: =IF(D18="","",$B$3*$B$4)
D19: =IF(18>$B$4,"",18) | E19: =IF(D19="","",$B$1+(D19-1)*IF($B$2="quincenal",15,7)) | F19: =IF(D19="","",IFERROR(INDEX(Integrantes!$A$2:$A$41,MATCH(D19,Integrantes!$F$2:$F$41,0)),"sin turno")) | G19: =IF(D19="","",$B$3*$B$4)
D20: =IF(19>$B$4,"",19) | E20: =IF(D20="","",$B$1+(D20-1)*IF($B$2="quincenal",15,7)) | F20: =IF(D20="","",IFERROR(INDEX(Integrantes!$A$2:$A$41,MATCH(D20,Integrantes!$F$2:$F$41,0)),"sin turno")) | G20: =IF(D20="","",$B$3*$B$4)
D21: =IF(20>$B$4,"",20) | E21: =IF(D21="","",$B$1+(D21-1)*IF($B$2="quincenal",15,7)) | F21: =IF(D21="","",IFERROR(INDEX(Integrantes!$A$2:$A$41,MATCH(D21,Integrantes!$F$2:$F$41,0)),"sin turno")) | G21: =IF(D21="","",$B$3*$B$4)

Sheet Cómo se usa
A1: Cómo se usa esta hoja
A3: En una tanda nadie le debe a nadie: cada quien pone lo mismo en cada ronda y a cada quien le toca
A4: cobrar una vez, en su turno. Lo que se lleva es el turno y quién ya puso.
A6: Datos: la fecha de la primera ronda, si es semanal o quincenal y la aportación. Las fechas de
A7: cada ronda, quién cobra en cada una y cuánto recibe salen solas. Quincenal cuenta 15 días.
A9: Integrantes: un renglón por persona con su número de turno. Una persona con dos números lleva
A10: dos renglones. En cada ronda se anota lo que puso; si no puso, la casilla se queda vacía.
A12: «Rondas vencidas» son las que ya tocaron a hoy. El saldo es lo que le falta poner de esas
A13: rondas. El renglón de abajo dice cuánto se juntó en cada ronda: si no da la aportación por
A14: integrantes, alguien no ha puesto y quien cobra esa ronda recibe menos.
A16: Las cinco primeras columnas son las que lee Makatea: se guarda como CSV y se sube, y el
A17: recordatorio le llega a cada integrante antes de cada ronda, no en el grupo.
A19: Makatea recuerda, registra y comunica. No mueve dinero.
